BEGIN:VCALENDAR
VERSION:2.0
PRODID:-//Central Virginia Small Business Development Center - ECPv6.15.20//NONSGML v1.0//EN
CALSCALE:GREGORIAN
METHOD:PUBLISH
X-ORIGINAL-URL:https://cvsbdc.org
X-WR-CALDESC:Events for Central Virginia Small Business Development Center
REFRESH-INTERVAL;VALUE=DURATION:PT1H
X-Robots-Tag:noindex
X-PUBLISHED-TTL:PT1H
BEGIN:VTIMEZONE
TZID:UTC
BEGIN:STANDARD
TZOFFSETFROM:+0000
TZOFFSETTO:+0000
TZNAME:UTC
DTSTART:20220101T000000
END:STANDARD
END:VTIMEZONE
BEGIN:VTIMEZONE
TZID:America/New_York
BEGIN:DAYLIGHT
TZOFFSETFROM:-0500
TZOFFSETTO:-0400
TZNAME:EDT
DTSTART:20220313T070000
END:DAYLIGHT
BEGIN:STANDARD
TZOFFSETFROM:-0400
TZOFFSETTO:-0500
TZNAME:EST
DTSTART:20221106T060000
END:STANDARD
BEGIN:DAYLIGHT
TZOFFSETFROM:-0500
TZOFFSETTO:-0400
TZNAME:EDT
DTSTART:20230312T070000
END:DAYLIGHT
BEGIN:STANDARD
TZOFFSETFROM:-0400
TZOFFSETTO:-0500
TZNAME:EST
DTSTART:20231105T060000
END:STANDARD
BEGIN:DAYLIGHT
TZOFFSETFROM:-0500
TZOFFSETTO:-0400
TZNAME:EDT
DTSTART:20240310T070000
END:DAYLIGHT
BEGIN:STANDARD
TZOFFSETFROM:-0400
TZOFFSETTO:-0500
TZNAME:EST
DTSTART:20241103T060000
END:STANDARD
END:VTIMEZONE
BEGIN:VEVENT
DTSTART;TZID=UTC:20230502T130000
DTEND;TZID=UTC:20230502T150000
DTSTAMP:20260423T062428
CREATED:20230320T230451Z
LAST-MODIFIED:20230321T020811Z
UID:12381-1683032400-1683039600@cvsbdc.org
SUMMARY:Location Lovingston BET 3\, Marketing\, Sales\, and Your Brand Program
DESCRIPTION:Week 5: Marketing\, Sales\, and Your Brand\nCurious about navigating online sales and marketing vs. traditional methods?\n\nDo you want to explore how to best launch a new product or service?\nCould you use help building the value of your brand and how to communicate how your business is better or different?\n\nIn this workshop\, we talk about your target customers\, tools to connect with them and achieve sales\, and how your brand identifies with them and your employees. We also discuss tools and strategies to identify market fit\, marketing and sales development\, as well as planning and execution. \nHYBRID event In person for cohort participants at The Nelson Center\, 8445 Thomas Nelson Highway\, Lovingston or online via Zoom \nRegister\n\nAbout Location Lovingston\nNelson County is using state and federal grant funds (Virginia Department of Housing and Community Development) to launch a Community Business Launch program to support business growth in vacant spaces in the village of Lovingston. \nThis is a free business training program designed to provide a base of business fundamentals to individuals looking to start or expand a business in Lovingston. Following the completion of the eight-week program\, selected individuals will be invited to compete for up to $15\,000 in startup grants. \nThe program is open to all entrepreneurs. Nelson County residency is not required and U.S. Citizenship is not required. Nelson County is committed to equal opportunity for all. \nLearn More
URL:https://cvsbdc.org/events/location-lovingston-bet-3-marketing-sales-and-your-brand-program/
LOCATION:Nelson Center\, 8445 Thomas Nelson Highway\, Lovingston\, VA\, 22949\, United States
CATEGORIES:Access to Capital,Hybrid event - online/in person,Managing a Business,Starting a Business
ATTACH;FMTTYPE=image/png:https://cvsbdc.org/wp-content/uploads/2023/02/Location-Lovingston-1.png
END:VEVENT
BEGIN:VEVENT
DTSTART;TZID=UTC:20230504T120000
DTEND;TZID=UTC:20230504T130000
DTSTAMP:20260423T062428
CREATED:20230412T213542Z
LAST-MODIFIED:20230412T213542Z
UID:12532-1683201600-1683205200@cvsbdc.org
SUMMARY:First Thursdays with the SBA: 7(a) and Microloans
DESCRIPTION:Do you own a small business and are interested in obtaining an SBA loan? Have you researched the various loan programs that are offered to small business owners?\nREGISTER\nONLINE event via Zoom \n\nGrab your lunch and join us online the first Thursday of each month to learn more about SBA programs and network with other small business owners. \nTopic: 7(a) and Microloans \nSBA Loan Programs: 7(a) – Come learn how an SBA loan can be used to finance your small business. This workshop will present information on: \n\nHow to prepare to get an SBA loan\nExplain the different 7(a) loan programs available\nWhat information is needed by a lender to get a loan\n\nSpeaker(s): Ford Scott\, Lender Relations Specialist \nIf you need further assistance or have a question\, please contact us at (540) 654-1383 \nFirst Thursdays with the SBA: 7(a) and Microloans is presented by\nSBA Virginia  \n& \nUniversity of Mary Washington SBDC
URL:https://cvsbdc.org/events/first-thursdays-with-the-sba-7a-and-microloans/
LOCATION:Online
CATEGORIES:Contracting,Hybrid event - online/in person
END:VEVENT
BEGIN:VEVENT
DTSTART;TZID=UTC:20230504T120000
DTEND;TZID=UTC:20230504T140000
DTSTAMP:20260423T062428
CREATED:20221221T220117Z
LAST-MODIFIED:20230413T205910Z
UID:11492-1683201600-1683208800@cvsbdc.org
SUMMARY:Pitch Preview
DESCRIPTION:Virginia early-stage innovative entrepreneurs:  Charlottesville Angel Network (CAN) and Virginia Small Business Development Center (VSBDC) have joined forces to help you polish your pitch presentation.\nCAN and VSBDC are offering four pitch practice opportunities in 2023\, with accredited angel investors in attendance. There is no cost to participate and presenter(s) will leave with actionable feedback from these angel investors. \nThree applicants will be selected for each Pitch Preview event\, held the first Thursday of the selected months\, between 12:00-2:00 pm. Attendees commit to thirty minute time slots consisting of: 5 minutes to join and meet angels\, 15 minutes to pitch\, and 10 minutes for feedback. Events will either be held virtually over Zoom or in person\, hosted by Central Virginia SBDC in Charlottesville\, VA. \n**This is not an application for funding or a formal presentation to request investment.** \nFor more detailed qualification information and to apply\, please read\, and if eligible\, submit an application for consideration in the program. If you aren’t sure if you are ready or if you should apply\, email events@cvsbdc.org to complete a request for counseling form for a confidential meeting. \n\nApply for Pitch Preview\nDeadline to apply: April 24 \n\n 
URL:https://cvsbdc.org/events/pitch-preview-10/
LOCATION:Online
CATEGORIES:Access to Capital,Business Funding,Online event
ATTACH;FMTTYPE=image/jpeg:https://cvsbdc.org/wp-content/uploads/2021/03/new-pitch-logo.jpg
ORGANIZER;CN="Central Virginia Small Business Development Center (CVSBDC)":MAILTO:events@cvsbdc.org
END:VEVENT
BEGIN:VEVENT
DTSTART;TZID=UTC:20230508T090000
DTEND;TZID=UTC:20230508T153000
DTSTAMP:20260423T062428
CREATED:20221223T003649Z
LAST-MODIFIED:20221223T003649Z
UID:11529-1683536400-1683559800@cvsbdc.org
SUMMARY:Orange County Office Hours
DESCRIPTION:To sign up\, call 434-295-8198 or email contact@cvsbdc.org \nWalk-ins welcome
URL:https://cvsbdc.org/events/orange-county-office-hours-5/
LOCATION:Orange County Economic Development Office\, 109 West Main Street\, Orange\, 22960\, United States
CATEGORIES:In person event
ATTACH;FMTTYPE=image/png:https://cvsbdc.org/wp-content/uploads/2022/12/5.png
ORGANIZER;CN="Central Virginia Small Business Development Center (CVSBDC)":MAILTO:events@cvsbdc.org
END:VEVENT
BEGIN:VEVENT
DTSTART;TZID=UTC:20230509T083000
DTEND;TZID=UTC:20230509T093000
DTSTAMP:20260423T062428
CREATED:20230118T233653Z
LAST-MODIFIED:20230118T235919Z
UID:11701-1683621000-1683624600@cvsbdc.org
SUMMARY:Louisa Business Boost
DESCRIPTION:Join us for an hour to meet other members in an intimate setting at the Chamber office. We’ll share details about the INFO HUB and keeping your membership account up to date. \n1. Get connected with your Chamber members and community \n2. Gain a Business Boost via the partnership with the Central Virginia Small Business Development Center \n3. Maximize your visibility with the Chamber
URL:https://cvsbdc.org/events/business-boost-8/
LOCATION:Louisa Chamber Office\, 111 W Main Street\, Louisa\, VA\, 23093\, United States
ATTACH;FMTTYPE=image/jpeg:https://cvsbdc.org/wp-content/uploads/2023/01/business-boost.jpg
ORGANIZER;CN="Louisa Chamber of Commerce":MAILTO:info@louisachamber.org
END:VEVENT
BEGIN:VEVENT
DTSTART;TZID=UTC:20230509T100000
DTEND;TZID=UTC:20230509T160000
DTSTAMP:20260423T062428
CREATED:20230117T013003Z
LAST-MODIFIED:20230117T013003Z
UID:11737-1683626400-1683648000@cvsbdc.org
SUMMARY:Louisa County Office Hours
DESCRIPTION:To sign up\, call 434-295-8198 or email contact@cvsbdc.org \nWalk-ins welcome
URL:https://cvsbdc.org/events/louisa-county-office-hours-4/
LOCATION:Louisa Chamber Office\, 111 W Main Street\, Louisa\, VA\, 23093\, United States
CATEGORIES:In person event
ATTACH;FMTTYPE=image/png:https://cvsbdc.org/wp-content/uploads/2023/01/5.png
ORGANIZER;CN="Central Virginia Small Business Development Center (CVSBDC)":MAILTO:events@cvsbdc.org
END:VEVENT
BEGIN:VEVENT
DTSTART;TZID=UTC:20230509T130000
DTEND;TZID=UTC:20230509T150000
DTSTAMP:20260423T062428
CREATED:20230320T230919Z
LAST-MODIFIED:20230321T021344Z
UID:12383-1683637200-1683644400@cvsbdc.org
SUMMARY:Location Lovingston BET 4\, Planning for Success
DESCRIPTION:Week 6: Planning for Success\n\nDo you have a “living” business plan that supports your operations\, works well for you\, and that you can share with others?\nHave you looked at all 20 components of your business model to avoid blind spots?\n\nIn this interactive webinar you will learn several business planning models so you can choose the right tool(s) for you. You will also learn about the  quadrants of risk and how to effectively share your business concept for the purposes of planning\, managing\, or pitching your business.  \nHYBRID event In person for cohort participants at The Nelson Center\, 8445 Thomas Nelson Highway\, Lovingston or online via Zoom \nRegister\n\nAbout Location Lovingston\nNelson County is using state and federal grant funds (Virginia Department of Housing and Community Development) to launch a Community Business Launch program to support business growth in vacant spaces in the village of Lovingston. \nThis is a free business training program designed to provide a base of business fundamentals to individuals looking to start or expand a business in Lovingston. Following the completion of the eight-week program\, selected individuals will be invited to compete for up to $15\,000 in startup grants. \nThe program is open to all entrepreneurs. Nelson County residency is not required and U.S. Citizenship is not required. Nelson County is committed to equal opportunity for all. \nLearn More
URL:https://cvsbdc.org/events/location-lovingston-bet-4-planning-for-success-program/
LOCATION:Nelson Center\, 8445 Thomas Nelson Highway\, Lovingston\, VA\, 22949\, United States
CATEGORIES:Access to Capital,Hybrid event - online/in person,Managing a Business,Starting a Business
ATTACH;FMTTYPE=image/png:https://cvsbdc.org/wp-content/uploads/2023/02/Location-Lovingston-1.png
END:VEVENT
BEGIN:VEVENT
DTSTART;TZID=UTC:20230510T120000
DTEND;TZID=UTC:20230510T140000
DTSTAMP:20260423T062428
CREATED:20221220T212838Z
LAST-MODIFIED:20221220T212838Z
UID:11459-1683720000-1683727200@cvsbdc.org
SUMMARY:Starting Your Business
DESCRIPTION:Thinking about starting a small business?\nHave you started…but maybe missed some critical information?\nThis workshop is for you!\nREGISTER\n  \nYou will receive an email from events@cvsbdc.org a day or two before the workshop with the link to join\, handouts and the presentation.  Please check your spam if you do not receive this email. \n\nWe review the steps for a successful start\, the registrations and regulations\, and the components of sound business planning\, including financial projections. \nFollow-up appointments are then available with SBDC\, SCORE\, and/or CIC business advisors to focus on your concept development\, business profile\, and/or business plans\, including financial projections. \nBrought to you jointly by: \nCentral Virginia SBDC     \n           Central Virginia SCORE     \n&            Community Investment Collaborative     \n\nThis virtual workshop is hosted by Community Investment Collaborative via Zoom. \nThere is a $10 admin/processing fee to attend this workshop.  If you cancel less than 48 hours before the workshop\, the fee is non-refundable.  If you cancel prior to the 48 hour deadline\, you can use this fee as a credit toward attending another workshop.
URL:https://cvsbdc.org/events/starting-your-business-50/
LOCATION:Online
CATEGORIES:Online event,Starting a Business
ATTACH;FMTTYPE=image/jpeg:https://cvsbdc.org/wp-content/uploads/2020/08/Start-Your-Own-Business2-413x320-1-e1610044903600.jpg
END:VEVENT
BEGIN:VEVENT
DTSTART;TZID=America/New_York:20230511T173000
DTEND;TZID=America/New_York:20230511T203000
DTSTAMP:20260423T062428
CREATED:20230509T152743Z
LAST-MODIFIED:20230509T153114Z
UID:12679-1683826200-1683837000@cvsbdc.org
SUMMARY:Piedmont Pitch Competition
DESCRIPTION:Co-Presented by The City of Charlottesville Office of Economic Development and Albemarle County Economic Development\n\n\n\n\n\n\n\n\n\n\n\n\n\n\n\n\n\nJoin us for the culmination of Piedmont Pitch! From over 70 applicants and participants\, following 8 weeks of training sessions and 5 days of preliminary pitches\, our 6 finalists will pitch for $15\,000 in prize money. The prize money is available thanks to the generous sponsorship of Albemarle County Economic Development\, Charlottesville Office of Economic Development\, and the Community Investment Collaborative. Pitch Night is also sponsored by The Wool Factory and First Citizens Bank.\n*No registration required*\n\nAgenda\n\n5:30pm: Doors open\, complimentary h’ors devours and cash bar available\n5:45pm: Introductions\n6:00pm: Pitches\n7:45pm: Judges deliberate\n8:00pm: Winners announced!\n\nPiedmont Pitch Finalists \nAnne Perkins\, Konnect Apps; Johnny Epps\, Odyssey Chocolates; Christina Martin\, Baker no Bakery; Phillip Rich\, Black Roses Landscaping; Kristopher Chain\, Season Report; Gabriela Romo\, Refemme \n  \n\n\n\n\n\n\n\n\nAbout Piedmont Pitch\nThe City of Charlottesville Office of Economic Development and Albemarle County Economic Development have joined forces to offer educational programming leading to a pitch competition for local small businesses. Entrepreneurs and small business owners in Charlottesville and Albemarle can apply to participate in the 10 week program including 8 training programs (Business Essentials Training) offered by Central Virginia SBDC and work with a business advisor to hone their pitch and develop a solid business plan. Graduates of Piedmont Pitch have the opportunity to pitch for $15\,000 in prize money! \n\n\n**Important Information for parking at The Wool Factory**
URL:https://cvsbdc.org/events/piedmont-pitch-competition/
LOCATION:The Wool Factory\, 1837 Broadway St\, Charlottesville\, VA\, 22902\, United States
ATTACH;FMTTYPE=image/png:https://cvsbdc.org/wp-content/uploads/2023/02/Piedmont-Pitch-e1707846780205.png
ORGANIZER;CN="Central Virginia Small Business Development Center (CVSBDC)":MAILTO:events@cvsbdc.org
END:VEVENT
BEGIN:VEVENT
DTSTART;TZID=UTC:20230515T083000
DTEND;TZID=UTC:20230515T160000
DTSTAMP:20260423T062428
CREATED:20230117T020150Z
LAST-MODIFIED:20230117T020150Z
UID:11765-1684139400-1684166400@cvsbdc.org
SUMMARY:Greene County Office Hours
DESCRIPTION:To sign up\, call 434-295-8198 or email contact@cvsbdc.org \nWalk-ins welcome
URL:https://cvsbdc.org/events/greene-county-office-hours-4/
LOCATION:Greene County Visitor’s Center\, 9157 Seminole Trail\, Ruckersville\, VA\, 22968\, United States
CATEGORIES:In person event
ATTACH;FMTTYPE=image/png:https://cvsbdc.org/wp-content/uploads/2023/01/May.png
ORGANIZER;CN="Central Virginia Small Business Development Center (CVSBDC)":MAILTO:events@cvsbdc.org
END:VEVENT
BEGIN:VEVENT
DTSTART;TZID=UTC:20230516T080000
DTEND;TZID=UTC:20230516T100000
DTSTAMP:20260423T062428
CREATED:20221229T200529Z
LAST-MODIFIED:20221229T200529Z
UID:11601-1684224000-1684231200@cvsbdc.org
SUMMARY:Charlottesville Entrepreneurs and Espresso (ce-2)
DESCRIPTION:Get inspired \nMeet fellow entrepreneurs\nShare lessons learned\nc-e2 is a casual gathering of learning for entrepreneurs at all stages of venture creation. Get inspired\, meet fellow entrepreneurs\, share lessons learned\, and become a part of Charlottesville’s vibrant and growing entrepreneurial ecosystem.\n3RD TUESDAY OF EVERY MONTH\n8:00 A.M.\nLocation: CODE Building – Irving Theater \n  \nREGISTER
URL:https://cvsbdc.org/events/charlottesville-entrepreneurs-and-espresso-ce-2-20/
LOCATION:CODE Building – Irving Theater\, 225 W Water St\, Charlottesville\, VA\, 22902\, United States
CATEGORIES:Networking
ATTACH;FMTTYPE=image/jpeg:https://cvsbdc.org/wp-content/uploads/2021/08/entrepreneurs-and-expresso-cvsbdc-1.jpg
END:VEVENT
BEGIN:VEVENT
DTSTART;TZID=UTC:20230516T130000
DTEND;TZID=UTC:20230516T150000
DTSTAMP:20260423T062428
CREATED:20230320T231408Z
LAST-MODIFIED:20230321T021259Z
UID:12385-1684242000-1684249200@cvsbdc.org
SUMMARY:Location Lovingston BET 5\, Money and Recordkeeping
DESCRIPTION:Week 7: Money and Recordkeeping\nIn this interactive webinar we will share sources of capital\, establishing credit\, and tips for success in record keeping and cash flow management. We help you with tips and tricks in recordkeeping\, as well as accounting language\, giving you tools to help you sleep at night knowing you are: \n\nmaking money\ncan pay your bills and\nwill be able to access additional capital when you need it.\n\n\nHYBRID event In person for cohort participants at The Nelson Center\, 8445 Thomas Nelson Highway\, Lovingston or online via Zoom \nRegister\n\nAbout Location Lovingston\nNelson County is using state and federal grant funds (Virginia Department of Housing and Community Development) to launch a Community Business Launch program to support business growth in vacant spaces in the village of Lovingston. \nThis is a free business training program designed to provide a base of business fundamentals to individuals looking to start or expand a business in Lovingston. Following the completion of the eight-week program\, selected individuals will be invited to compete for up to $15\,000 in startup grants. \nThe program is open to all entrepreneurs. Nelson County residency is not required and U.S. Citizenship is not required. Nelson County is committed to equal opportunity for all. \nLearn More
URL:https://cvsbdc.org/events/location-lovingston-bet-5-money-and-recordkeeping-program/
LOCATION:Nelson Center\, 8445 Thomas Nelson Highway\, Lovingston\, VA\, 22949\, United States
CATEGORIES:Access to Capital,Hybrid event - online/in person,Managing a Business,Starting a Business
ATTACH;FMTTYPE=image/png:https://cvsbdc.org/wp-content/uploads/2023/02/Location-Lovingston-1.png
END:VEVENT
BEGIN:VEVENT
DTSTART;TZID=UTC:20230518T124500
DTEND;TZID=UTC:20230518T171500
DTSTAMP:20260423T062428
CREATED:20230320T203204Z
LAST-MODIFIED:20230413T213032Z
UID:12342-1684413900-1684430100@cvsbdc.org
SUMMARY:The Global Launchpad
DESCRIPTION:Virginia SBDC’s International Business Development (IBD) Program evaluates startups for export potential and assists startups and existing businesses to compete globally via one-on-one technical assistance and connection to state\, national and international resources. Recognizing these specific opportunities and challenges for technology enabled startups\, the Virginia SBDC is convening a one-day event in Charlottesville\, VA that will bring experts and successful global startups to share their experience entering foreign markets. Specifically\, the program will: \n\nHighlight startups that have had success in global markets.\nProvide compliance training for early stage companies to understand when and how export controls might impact their business.\nHost IP and trademark filing training for startups with a focus on how to mitigate costs and prioritize markets for IP protection.\nPresent information on the proper storage and handling of data in foreign markets with a focus on the European Union.\nIntroduce the taxpayer-funded resources available to companies for global expansion.\n\nKeynote Speaker:\nAntwaun Griffin\, Head of Socially Responsible Purchasing\, Amazon Business  \nFormer Deputy Assistant Secretary\, Department of Commerce; Chief of Staff\, SBA \nAntwaun Griffin joined Amazon Business in May 2022 to lead the AB Bridging Communities program\, focused on accelerating socially responsible spending (Small/Local\, Diverse\, Sustainable) among AB customers\, while supporting/growing Sellers from these communities. \nAntwaun has an extensive background in small business development in the public and private sectors and is a veteran of political campaigns at the National\, State\, and Local levels. Prior to joining Amazon\, Antwaun served as Chief of Staff at the U.S. Small Business Administration – a cabinet level federal agency. In this role\, Antwaun managed the agency’s budget and led the SBA response to the COVID pandemic\, which was focused on supply chain resiliency and strengthening America’s small business supplier base. \nRegister\n**Purchasing multiple tickets for your organization? Add 1 General Admission ticket at $40 and then apply the “GlobalPass” (case sensitive) promo code to unlock $26 discounted tickets for others on your team! Contact Shira Goldeen at events@cvsbdc.org with any questions.** \nProgram Agenda\n\nRemarks from Antwaun Griffin\, Head of Socially Responsible Purchasing\, Amazon Business\nSecuring Intellectual Property Rights in Foreign Markets\nTop Regulatory Compliance Issues for STEM Exporters\nProper Data Handling Under GDPR\nAmple opportunities for networking with panelists\, resource providers\, and the startup community\, culminating with a closing reception featuring hors d’oeuvres and Virginia craft beverages\n\n  \n\n\nSponsors\n         \n \n \n Global Launchpad Co-hosts\n● City of Charlottesville Office of Economic Development ● Albemarle County Office of Economic Development ●  \n● Cville BioHub ● Charlottesville Business Innovation Council (CBIC) ● UVA Licensing & Venture Group ●  \n● Charlottesville Regional Chamber of Commerce ●
URL:https://cvsbdc.org/events/the-global-launchpad/
LOCATION:CODE Building – Irving Theater\, 225 W Water St\, Charlottesville\, VA\, 22902\, United States
CATEGORIES:In person event,International Trade,Networking
ATTACH;FMTTYPE=image/png:https://cvsbdc.org/wp-content/uploads/2023/03/Global-Launchpad-banner-600-×-300-px.png
END:VEVENT
BEGIN:VEVENT
DTSTART;TZID=UTC:20230518T130000
DTEND;TZID=UTC:20230518T143000
DTSTAMP:20260423T062428
CREATED:20230412T222422Z
LAST-MODIFIED:20230412T222927Z
UID:12536-1684414800-1684420200@cvsbdc.org
SUMMARY:Future Proofing Your Business: Web 3.0\, NFTs\, & Blockchain
DESCRIPTION:Confused about on blockchain for your business? We’ve got you covered.\nWe demystify blockchain in this illustrative program that includes a Q&A session to answer your questions. \nThis session will cover: \n\nIntroduction to Blockchain\n\nBlockchain vs. Bitcoin – how are they different?\n\n\nHow Blockchain can be used for small business\n\nAccepting cryptocurrency as a form of payment\nUse of smart contracts\nUse of Non-Fungible Tokens (NFTs)\nUsing blockchain to raise capital\n\n\nLooking towards the future of blockchain technologies\n\nCurrent rate of blockchain adoption in business\nMoving towards cryptocurrency as national currency\n\n\nIndustry Applications\nSafety and Privacy Concerns\n\n\nRegister\n\n\n\nPresenter: \nCameron Nelson\, Chief Digital Advisor\, Central Virginia SBDC \n\nA confirmation email with the Zoom login information will be sent after registration – a day before before the event – please be on the lookout for it. \n\nFee: No Cost \n  \n\n\nPresented by\nVirginia SBDC
URL:https://cvsbdc.org/events/future-proofing-your-business-web-3-0-nfts-blockchain/
LOCATION:Online
END:VEVENT
BEGIN:VEVENT
DTSTART;TZID=UTC:20230523T130000
DTEND;TZID=UTC:20230523T150000
DTSTAMP:20260423T062428
CREATED:20230320T231915Z
LAST-MODIFIED:20230321T021238Z
UID:12387-1684846800-1684854000@cvsbdc.org
SUMMARY:Location Lovingston: Pitch Preparation
DESCRIPTION:Week 8: Pitch Prep Program\nPitch for up $15\,000 in prize money!\nTake our prep class to make the most of your pitch.\nIn this interactive webinar you will learn tips from the pros and be given access to several resources that can help you prepare your deck with confidence and how to make the most of your ten minutes before the judges. Plenty of time for Q & A and individual meetings can be scheduled after the session. \nHYBRID event In person for cohort participants at The Nelson Center\, 8445 Thomas Nelson Highway\, Lovingston or online via Zoom \nRegister\n\nAbout Location Lovingston\nNelson County is using state and federal grant funds (Virginia Department of Housing and Community Development) to launch a Community Business Launch program to support business growth in vacant spaces in the village of Lovingston. \nThis is a free business training program designed to provide a base of business fundamentals to individuals looking to start or expand a business in Lovingston. Following the completion of the eight-week program\, selected individuals will be invited to compete for up to $15\,000 in startup grants. \nThe program is open to all entrepreneurs. Nelson County residency is not required and U.S. Citizenship is not required. Nelson County is committed to equal opportunity for all. \nLearn More
URL:https://cvsbdc.org/events/location-lovingston-pitch-prep-program/
LOCATION:Nelson Center\, 8445 Thomas Nelson Highway\, Lovingston\, VA\, 22949\, United States
CATEGORIES:Access to Capital,Hybrid event - online/in person,Managing a Business,Starting a Business
ATTACH;FMTTYPE=image/png:https://cvsbdc.org/wp-content/uploads/2023/02/Location-Lovingston-1.png
END:VEVENT
BEGIN:VEVENT
DTSTART;TZID=UTC:20230525T130000
DTEND;TZID=UTC:20230525T163000
DTSTAMP:20260423T062428
CREATED:20221223T010358Z
LAST-MODIFIED:20221223T010358Z
UID:11554-1685019600-1685032200@cvsbdc.org
SUMMARY:Fluvanna County Office Hours
DESCRIPTION:To sign up\, call 434-295-8198 or email contact@cvsbdc.org \nWalk-ins welcome
URL:https://cvsbdc.org/events/fluvanna-county-office-hours-5/
LOCATION:Fluvanna Chamber\, 177 Main St\, Palmyra\, VA\, 22963\, United States
CATEGORIES:In person event
ATTACH;FMTTYPE=image/png:https://cvsbdc.org/wp-content/uploads/2022/12/5-1.png
ORGANIZER;CN="Central Virginia Small Business Development Center (CVSBDC)":MAILTO:events@cvsbdc.org
END:VEVENT
BEGIN:VEVENT
DTSTART;TZID=UTC:20230529T090000
DTEND;TZID=UTC:20230529T170000
DTSTAMP:20260423T062428
CREATED:20230511T140148Z
LAST-MODIFIED:20230511T140148Z
UID:12685-1685350800-1685379600@cvsbdc.org
SUMMARY:Memorial Day - OFFICE CLOSED
DESCRIPTION:
URL:https://cvsbdc.org/events/memorial-day-office-closed-3/
LOCATION:VA
ATTACH;FMTTYPE=image/png:https://cvsbdc.org/wp-content/uploads/2021/03/Memorial-Day-1-e1614705547323.png
END:VEVENT
BEGIN:VEVENT
DTSTART;TZID=UTC:20230531T180000
DTEND;TZID=UTC:20230531T200000
DTSTAMP:20260423T062428
CREATED:20230407T202203Z
LAST-MODIFIED:20230512T145853Z
UID:12484-1685556000-1685563200@cvsbdc.org
SUMMARY:Culpeper Competes Launch Program
DESCRIPTION:Week 1: Launch Program\nStart-up or existing companies in the Town of Culpeper\nTake our class to make the most of your developing business.\nIn this interactive webinar you will learn tips from the pros and be given access to several resources that can help you develop or expand your business in the Town of Culpeper \nHYBRID event In person at the Culpeper Economic Development Center\, 803 S Main St\, Culpeper\, or online via Zoom \nRegister\n\nAbout Culpeper Competes\nTo inspire economic development and job creation in Culpeper\, the Town of Culpeper is proud to present Culpeper Competes in partnership with the Central Virginia Small Business Development Center. Culpeper Competes is designed to encourage and develop an entrepreneurial spirit through business development education and mentorships to guide participants through the process of launching or growing their business.  \nLearn More
URL:https://cvsbdc.org/events/culpeper-competes-launch-program/
LOCATION:Culpeper Economic Development Center\, 803 South Main St\, Culpeper\, VA\, 22701\, United States
CATEGORIES:Access to Capital,Hybrid event - online/in person,Managing a Business,Starting a Business
ATTACH;FMTTYPE=image/jpeg:https://cvsbdc.org/wp-content/uploads/2023/04/Culp-CompetesBET.jpg
ORGANIZER;CN="Central Virginia Small Business Development Center (CVSBDC)":MAILTO:events@cvsbdc.org
END:VEVENT
END:VCALENDAR