BEGIN:VCALENDAR
VERSION:2.0
PRODID:-//Central Virginia Small Business Development Center - ECPv6.15.20//NONSGML v1.0//EN
CALSCALE:GREGORIAN
METHOD:PUBLISH
X-ORIGINAL-URL:https://cvsbdc.org
X-WR-CALDESC:Events for Central Virginia Small Business Development Center
REFRESH-INTERVAL;VALUE=DURATION:PT1H
X-Robots-Tag:noindex
X-PUBLISHED-TTL:PT1H
BEGIN:VTIMEZONE
TZID:UTC
BEGIN:STANDARD
TZOFFSETFROM:+0000
TZOFFSETTO:+0000
TZNAME:UTC
DTSTART:20220101T000000
END:STANDARD
END:VTIMEZONE
BEGIN:VEVENT
DTSTART;TZID=UTC:20230207T090000
DTEND;TZID=UTC:20230207T110000
DTSTAMP:20260421T050718
CREATED:20230110T001629Z
LAST-MODIFIED:20230116T223241Z
UID:11630-1675760400-1675767600@cvsbdc.org
SUMMARY:Understanding Your Customers and Market
DESCRIPTION:Founder’s Series Session 1\nIs your business concept the right idea\, at the right time for your industry?\nAre the features attractive to customers and do they care enough to change current habits?\n\nIs your addressable market big enough to generate adequate revenue for a successful business? Our research tools can help you decide.\nHave you conducted “customer discovery” for feedback on your offering and to know who will buy and how they will buy?\n\nIn this workshop\, we talk about industry knowledge\, communication with target customers to optimize your product or service offering and honing in on the ideal market(s). \nREGISTER\nPresented by: \nJosh Green\, Director\, Innovation Commercialization Assistance Program (ICAP)\, is a mentor and entrepreneur whose career has primarily focused on business and organizational development. He is currently the Director of the Innovation Commercialization Assistance Program (ICAP) – a program of George Mason University and the Virginia SBDC. ICAP works with early-stage technology and innovation-driven companies to validate their market on their path toward venture investment and scaling. For almost 15 years\, he has advised private companies and nonprofit organizations across the United States in a wide array of industries.    \nJosh is also a founding member of a startup that produces a high-performance and environmentally safe hydraulic fluid\, as well as an aerospace startup that manufactures next-generation unmanned systems.    \nJosh received his undergraduate degree from the University of Arizona and an MBA from the University of Nevada.  \n\n*More information on the Founder’s Series and Entrepreneurship certificate can be found here.* \nAdditional Founder’s Series classes currently scheduled: \n\nFeb 14: Pricing\, Costs\, and Launch Preparation\nFeb 21: Marketing\, Sales\, and Your Brand\nFeb 28: Planning for Success\nMar 7: Money and Recordkeeping
URL:https://cvsbdc.org/events/understanding-your-customers-and-market/
LOCATION:Online
CATEGORIES:Managing a Business,Online event
ATTACH;FMTTYPE=image/png:https://cvsbdc.org/wp-content/uploads/2022/09/EC-badge_state-1.png
ORGANIZER;CN="Central Virginia Small Business Development Center (CVSBDC)":MAILTO:events@cvsbdc.org
END:VEVENT
BEGIN:VEVENT
DTSTART;TZID=UTC:20230208T090000
DTEND;TZID=UTC:20230208T110000
DTSTAMP:20260421T050718
CREATED:20221220T204713Z
LAST-MODIFIED:20221220T204713Z
UID:11455-1675846800-1675854000@cvsbdc.org
SUMMARY:Starting Your Business
DESCRIPTION:Thinking about starting a small business?\nHave you started…but maybe missed some critical information?\nThis workshop is for you!\nREGISTER\n  \nYou will receive an email from events@cvsbdc.org a day or two before the workshop with the link to join\, handouts and the presentation.  Please check your spam if you do not receive this email. \n\nWe review the steps for a successful start\, the registrations and regulations\, and the components of sound business planning\, including financial projections. \nFollow-up appointments are then available with SBDC\, SCORE\, and/or CIC business advisors to focus on your concept development\, business profile\, and/or business plans\, including financial projections. \nBrought to you jointly by: \nCentral Virginia SBDC     \n           Central Virginia SCORE     \n&            Community Investment Collaborative     \n\nThis virtual workshop is hosted by Community Investment Collaborative via Zoom. \nThere is a $10 admin/processing fee to attend this workshop.  If you cancel less than 48 hours before the workshop\, the fee is non-refundable.  If you cancel prior to the 48 hour deadline\, you can use this fee as a credit toward attending another workshop.
URL:https://cvsbdc.org/events/starting-your-business-48/
LOCATION:Online
CATEGORIES:Online event,Starting a Business
ATTACH;FMTTYPE=image/jpeg:https://cvsbdc.org/wp-content/uploads/2020/08/Start-Your-Own-Business2-413x320-1-e1610044903600.jpg
END:VEVENT
BEGIN:VEVENT
DTSTART;TZID=UTC:20230209T170000
DTEND;TZID=UTC:20230209T193000
DTSTAMP:20260421T050718
CREATED:20230113T233034Z
LAST-MODIFIED:20230113T233034Z
UID:11680-1675962000-1675971000@cvsbdc.org
SUMMARY:Financial Crimes: Let’s Talk Dirty
DESCRIPTION:CBIC Tech Night Takeover\n  \nEverything You Never Knew About Financial Crimes And How to Level Up Your De-risking Game \n\n\n\n\n\n\nCBIC presents its first in-person CBIC Tech Night Takeover since the start of the pandemic and boy are we excited to bring this particular one to you…. \nTheranos\, FTX\, and Nikola are recent headline criminal cases you’ve likely heard about; however\, even the most seasoned businesses\, founders\, and even investors are not aware of how prolific financial crimes occur in everyday businesses just like yours\, ours\, and that of clients and portfolio companies. Financial crimes can involve transactions with customers\, suppliers\, employees\, cofounders\, and even senior management and owners. This professional lineup of subject matter experts will not only describe and demystify the most prevalent types of financial crimes you might witness or experience\, it will reveal red flags to spot them\, and share how to create\, adapt\, or update your crime-stopping infrastructure to protect against widespread sources of crime. Steer clear this mess. Spend some time with us now to avoid “doing time” later! \nRough Timeline: \n5:00 – 5:30 PM:Check-in\, Networking\, Grab a drink and snack \n5:30 – 6:00 PM:Welcome and Primer \n6:00 – 7:00 PM:Panel Discussion \n7:00 – 7:30 PM:Networking \n\n\n\n\n\nRegister\n  \nSpeakers\, Panelists and Moderator include: \nAlexandra Solórzano\, Owl Consultancy Group LLC — will lead us off with a presentation to prime the audience with an overview of various types of financial crimes \nAlexander Goodman\, Clockwork \nBryce Fletcher\, Forward Financial Intelligence \nBrian Johnson\, Woods Rogers Vandeventer Black \nJustin Ritter\, Ritter Law & CBIC Chairman of the Board \n  \nAttendees will learn: \n\nHow these crimes are getting more sophisticated\n\n\nDetails of real case studies\n\n\nWays to de-risk your business\n\n\nKnowledge and red flags\n\n\nStrategies for avoiding financial crimes in your business\n\n\nPractical steps you can take today\n\n\nAwareness to avoid committing the common crime of ignorance\n\n\nHeld in partnership with Charlottesville Business Innovation Council (CBIC)\, Central Virginia Small Business Development Center (CV SBDC) and CODEbase Coworking
URL:https://cvsbdc.org/events/financial-crimes-lets-talk-dirty/
LOCATION:CODE Building – Irving Theater\, 225 W Water St\, Charlottesville\, VA\, 22902\, United States
CATEGORIES:Disaster Mitigation,In person event,Managing a Business,Networking
ATTACH;FMTTYPE=image/jpeg:https://cvsbdc.org/wp-content/uploads/2023/01/2.9-TNT.jpg
END:VEVENT
BEGIN:VEVENT
DTSTART;TZID=UTC:20230213T090000
DTEND;TZID=UTC:20230213T153000
DTSTAMP:20260421T050718
CREATED:20221222T235457Z
LAST-MODIFIED:20221222T235457Z
UID:11522-1676278800-1676302200@cvsbdc.org
SUMMARY:Orange County Office Hours
DESCRIPTION:To sign up\, call 434-295-8198 or email contact@cvsbdc.org \nWalk-ins welcome
URL:https://cvsbdc.org/events/orange-county-office-hours-2/
LOCATION:Orange County Economic Development Office\, 109 West Main Street\, Orange\, 22960\, United States
CATEGORIES:In person event
ATTACH;FMTTYPE=image/png:https://cvsbdc.org/wp-content/uploads/2022/12/2.png
ORGANIZER;CN="Central Virginia Small Business Development Center (CVSBDC)":MAILTO:events@cvsbdc.org
END:VEVENT
BEGIN:VEVENT
DTSTART;TZID=UTC:20230214T083000
DTEND;TZID=UTC:20230214T093000
DTSTAMP:20260421T050718
CREATED:20230118T234420Z
LAST-MODIFIED:20230118T235939Z
UID:11695-1676363400-1676367000@cvsbdc.org
SUMMARY:Louisa Business Boost
DESCRIPTION:Join us for an hour to meet other members in an intimate setting at the Chamber office. We’ll share details about the INFO HUB and keeping your membership account up to date. \n1. Get connected with your Chamber members and community \n2. Gain a Business Boost via the partnership with the Central Virginia Small Business Development Center \n3. Maximize your visibility with the Chamber
URL:https://cvsbdc.org/events/business-boost-11/
LOCATION:Louisa Chamber Office\, 111 W Main Street\, Louisa\, VA\, 23093\, United States
ATTACH;FMTTYPE=image/jpeg:https://cvsbdc.org/wp-content/uploads/2023/01/business-boost.jpg
ORGANIZER;CN="Louisa Chamber of Commerce":MAILTO:info@louisachamber.org
END:VEVENT
BEGIN:VEVENT
DTSTART;TZID=UTC:20230214T090000
DTEND;TZID=UTC:20230214T110000
DTSTAMP:20260421T050718
CREATED:20230110T002248Z
LAST-MODIFIED:20230116T232025Z
UID:11631-1676365200-1676372400@cvsbdc.org
SUMMARY:Pricing\, Costs\, and Launch Preparation
DESCRIPTION:Founder’s Series Session 2\nGet clear up front on your business costs\, how to establish prices and project profitability\, considering the value proposition of your product or service.\n\nAre your costs and profit margins designed to reach industry norms?\nIs your pricing strategy appropriate to engage and retain customers?\nWill this business make enough to support myself and/or my family?\n\nIn this workshop we discuss effective cost of goods sold management and give you tools to prepare to launch a new product or service. \nREGISTER\n  \nPresented by: \nTom Kelly is a versatile\, collaborative and customer-focused business leader with twenty years of cross-functional experience in both corporate and small business environments. Throughout his career he has focused on ensuring that how is just as important as what gets delivered for any organization. Tom’s professional career began with a two-year leadership development program at General Electric after graduating from Boston University in 2001. Upon successful completion of the program and achieving his Six Sigma quality certification\, he continued exceling at GE for another six years with roles in sales\, marketing and salesforce enablement. \nTom made a conscious decision to leave his corporate career in 2018 in order to launch his own small business. Eager to follow his passion for organic food and do something much more hands-on\, he launched Rise Bakehouse\, an organic sourdough bakery from his home in California. He quickly built a strong consumer and wholesale customer base and learned all the different aspects of small business ownership in addition to sourdough baking. As the pandemic was gaining strength in 2019\, Tom and his family made an adventurous move from California to the East Coast via a ten-month RV trip across the country. During their time on the road\, he and his wife assumed the role of co-teacher to their two children while traveling 21\,000 miles across 23 states\, exploring 16 national and 14 state parks. They found their way to Charlottesville\, VA and chose it as their new home. \n\n*More information on the Founder’s Series and Entrepreneurship certificate can be found here.* \n  \nAdditional Founder’s Series classes currently scheduled: \n\nFeb 21: Marketing\, Sales\, and Your Brand\nFeb 28: Planning for Success\nMar 7: Money and Recordkeeping
URL:https://cvsbdc.org/events/pricing-costs-and-launch-preparation-4/
LOCATION:Online
CATEGORIES:Managing a Business,Online event
ATTACH;FMTTYPE=image/png:https://cvsbdc.org/wp-content/uploads/2022/09/EC-badge_state-1.png
ORGANIZER;CN="Central Virginia Small Business Development Center (CVSBDC)":MAILTO:events@cvsbdc.org
END:VEVENT
BEGIN:VEVENT
DTSTART;TZID=UTC:20230214T100000
DTEND;TZID=UTC:20230214T160000
DTSTAMP:20260421T050718
CREATED:20230117T012332Z
LAST-MODIFIED:20230117T012332Z
UID:11717-1676368800-1676390400@cvsbdc.org
SUMMARY:Louisa County Office Hours
DESCRIPTION:To sign up\, call 434-295-8198 or email contact@cvsbdc.org \nWalk-ins welcome
URL:https://cvsbdc.org/events/louisa-county-office-hours/
LOCATION:Louisa Chamber Office\, 111 W Main Street\, Louisa\, VA\, 23093\, United States
CATEGORIES:In person event
ATTACH;FMTTYPE=image/png:https://cvsbdc.org/wp-content/uploads/2023/01/2.png
ORGANIZER;CN="Central Virginia Small Business Development Center (CVSBDC)":MAILTO:events@cvsbdc.org
END:VEVENT
BEGIN:VEVENT
DTSTART;TZID=UTC:20230216T120000
DTEND;TZID=UTC:20230216T130000
DTSTAMP:20260421T050718
CREATED:20230207T000733Z
LAST-MODIFIED:20230207T000733Z
UID:11863-1676548800-1676552400@cvsbdc.org
SUMMARY:Tax-Free Health Benefits for Virginia Small Businesses: Learn about ICHRA & QSEHRA
DESCRIPTION:The HRA Council\, at the request of the Virginia State Corporation Commission\, will be presenting educational information about a relatively new solution to the ongoing issue of expensive group health insurance for small businesses in the state. The Individual Coverage Health Reimbursement Arrangement (ICHRA) and the Qualified Small Employer Health Reimbursement Arrangement (QSEHRA) are two tax-advantaged federal tools that Virginia small employers may be able to use to extend health benefits to their team without annual premium increases or participation concerns. A panel of experts\, including HRA administrators\, small business owners\, and lawyers specializing in benefits compliance will be covering how these new HRAs work\, which types of businesses they benefit the most\, and how to get started. \nREGISTER\nBrought to you by: \nMadison County Chamber of Commerce      \n\nThis virtual workshop is hosted by Madison County Chamber of Commerce via Zoom. \n\n 
URL:https://cvsbdc.org/events/tax-free-health-benefits-for-virginia-small-businesses-learn-about-ichra-qsehra/
LOCATION:Online
END:VEVENT
BEGIN:VEVENT
DTSTART;TZID=UTC:20230221T080000
DTEND;TZID=UTC:20230221T100000
DTSTAMP:20260421T050718
CREATED:20221229T193637Z
LAST-MODIFIED:20221229T193637Z
UID:11594-1676966400-1676973600@cvsbdc.org
SUMMARY:Charlottesville Entrepreneurs and Espresso (ce-2)
DESCRIPTION:Get inspired \nMeet fellow entrepreneurs\nShare lessons learned\nc-e2 is a casual gathering of learning for entrepreneurs at all stages of venture creation. Get inspired\, meet fellow entrepreneurs\, share lessons learned\, and become a part of Charlottesville’s vibrant and growing entrepreneurial ecosystem.\n3RD TUESDAY OF EVERY MONTH\n8:00 A.M.\nLocation: CODE Building – Irving Theater \n  \nREGISTER
URL:https://cvsbdc.org/events/charlottesville-entrepreneurs-and-espresso-ce-2-17/
LOCATION:CODE Building – Irving Theater\, 225 W Water St\, Charlottesville\, VA\, 22902\, United States
CATEGORIES:Networking
ATTACH;FMTTYPE=image/jpeg:https://cvsbdc.org/wp-content/uploads/2021/08/entrepreneurs-and-expresso-cvsbdc-1.jpg
END:VEVENT
BEGIN:VEVENT
DTSTART;TZID=UTC:20230221T090000
DTEND;TZID=UTC:20230221T110000
DTSTAMP:20260421T050718
CREATED:20230110T002830Z
LAST-MODIFIED:20230116T232242Z
UID:11632-1676970000-1676977200@cvsbdc.org
SUMMARY:Marketing\, Sales\, and Your Brand
DESCRIPTION:Founder’s Series Session 3\nCurious about navigating online sales and marketing vs. traditional methods?\n\nDo you want to explore how to best launch a new product or service?\nCould you use help building the value of your brand and how to communicate how your business is better or different?\n\nIn this workshop\, we talk about your target customers\, tools to connect with them and achieve sales\, and how your brand identifies with them and your employees. We also discuss tools and strategies to identify market fit\, marketing and sales development\, as well as planning and execution. \nREGISTER\n  \nPresented by: \nAriel Bredder is the Assistant Director of the Central Virginia SBDC. Born and raised in Charlottesville\, VA\, Ariel received her degree in Business Administration with a concentration in Marketing from Christopher Newport University. Ariel has enjoyed working with several small businesses in the roles of sales and marketing\, customer service\, administration and bookkeeping. Ariel is also a Certified Success and Emotional Intelligence Coach. As the Assistant Director and Business Advisor\, Ariel provides assistance and coaching to support small business owners. \n\n*More information on the Founder’s Series and Entrepreneurship certificate can be found here.* \nAdditional Founder’s Series classes currently scheduled: \n\nFeb 28: Planning for Success\nMar 7: Money and Recordkeeping
URL:https://cvsbdc.org/events/marketing-sales-and-your-brand-5/
LOCATION:Online
CATEGORIES:Managing a Business,Online event
ATTACH;FMTTYPE=image/png:https://cvsbdc.org/wp-content/uploads/2022/09/EC-badge_state-1.png
ORGANIZER;CN="Central Virginia Small Business Development Center (CVSBDC)":MAILTO:events@cvsbdc.org
END:VEVENT
BEGIN:VEVENT
DTSTART;TZID=UTC:20230221T120000
DTEND;TZID=UTC:20230221T133000
DTSTAMP:20260421T050718
CREATED:20230118T020815Z
LAST-MODIFIED:20230118T020815Z
UID:11773-1676980800-1676986200@cvsbdc.org
SUMMARY:Marketing to the Federal Government
DESCRIPTION:Would you like to add to your business’ portfolio and bottom line through a federal government contract but are struggling to make inroads?\nJoin us and learn marketing strategies and tips to increase your chances of success.\nThe Federal Government buys over $600 billion per year on goods and services\, 23% of that spend is allocated for small business. This is a huge opportunity for small firms to grow their business and become part of the challenging world of Government Contracting. Before entering into this arena you must first know how to market yourself to government. This presentation will help you prepare your firm to get noticed by government and prime buyers by developing a proper marketing plan and strategy. \nIn this session you will learn: \n\nSteps to take to be where you can be found by buyers\nPreparing a winning capability statement\nOrganize your website\, business cards and marketing materials\nPrepare a marketing plan to attract buyers\n\nREGISTER\nHybrid Event: This event is being offered both in person at the CV SBDC office (300 Preston Ave) and online via Zoom. After registering\, please email events@cvsbdc.org if you would like to attend in person. In person seats are limited – reserve yours today!\n\n\nJoin Lisa Wood\, Director of the Virginia Procurement Technical Assistance Center (PTAC)\, for this informative presentation – a “must” for those who are considering the Federal Government contracting market and want to learn how to prepare for/navigate this huge potential market.  The class offers tips and tricks on how to win Federal business.\nLisa is the Statewide Director of the Virginia Procurement Technical Assistance Center (PTAC) hosted by George Mason University. Prior to that\, she served as the Statewide Director with the Connecticut and Ohio PTAC programs and was also Director for the Northwest Commission PTAC in Pennsylvania. Before joining the PTAC community\, Lisa was a Procurement Specialist for Bechtel Plant Machinery\, Inc. in the Greater Pittsburgh Area. In this role\, Wood performed contract administration and negotiation duties. She also recommended bidders\, handled issue inquiries\, negotiated bids\, performed cost and price analysis\, and prepared comprehensive letters to justify recommended contract actions.  Ms. Wood holds an MBA from the University of New Haven and a BSBA through Robert Morris University of Pittsburgh where she is also pursuing her PhD in Instructional Management and Leadership. \n2023 Government Contracting Series is presented jointly by\nCentral Virginia SBDC and Capital Region SBDC\n. 
URL:https://cvsbdc.org/events/marketing-to-the-federal-government-3/
LOCATION:Central Virginia Small Business Development Center (CVSBDC)\, 300 Preston Ave\, Suite 201\, Charlottesville\, VA\, 22902\, United States
CATEGORIES:Contracting,Hybrid event - online/in person
ATTACH;FMTTYPE=image/jpeg:https://cvsbdc.org/wp-content/uploads/2020/10/capitol.jpg
ORGANIZER;CN="Central Virginia Small Business Development Center (CVSBDC)":MAILTO:events@cvsbdc.org
END:VEVENT
BEGIN:VEVENT
DTSTART;TZID=UTC:20230222T130000
DTEND;TZID=UTC:20230222T150000
DTSTAMP:20260421T050718
CREATED:20230127T193225Z
LAST-MODIFIED:20230127T193225Z
UID:11825-1677070800-1677078000@cvsbdc.org
SUMMARY:Understanding Intellectual Property from the USPTO: A Deep Dive into Pathways for Your IP
DESCRIPTION:ICAP and Virginia Bio are excited to announce our next presentation – Understanding Intellectual Property: A Deep Dive into Pathways for Your IP. During this session\, the USPTO will cover everything a startup should know in order to protect their intellectual property. This will include several examples from the life sciences and healthcare\, but the information will be relevant to all early-stage companies. Following the initial presentation\, there will be breakout sessions to cover specific topic areas in more detail. These will be led by an ICAP Mentor and USPTO expert. \n\n\n\n\nThe session will be held on Wednesday\, February 22nd\, from 1pm to 3pm. There will be several ways to attend the event\, including in-person at the USPTO in Alexandria\, virtually\, and at several in-person watch party locations around the Commonwealth. If you would like to attend this session\, in person or virtually\, please use the link below to answer a short survey. This will allow ICAP and the USPTO to tailor the presentation to who will be attending. \n\n\nhttps://www.surveymonkey.com/r/C67C7FY\n\n\n\nFor those who attend the live session in Alexandria\, you will also have the option to take a tour of the USPTO facility. 
URL:https://cvsbdc.org/events/understanding-intellectual-property-from-the-uspto-a-deep-dive-into-pathways-for-your-ip/
LOCATION:Online
CATEGORIES:Hybrid event - online/in person,Managing a Business
ATTACH;FMTTYPE=image/png:https://cvsbdc.org/wp-content/uploads/2020/08/ICAP-square-logo.png
ORGANIZER;CN="ICAP":MAILTO:jgreen45@gmu.edu
END:VEVENT
BEGIN:VEVENT
DTSTART;TZID=UTC:20230223T130000
DTEND;TZID=UTC:20230223T163000
DTSTAMP:20260421T050718
CREATED:20221223T004908Z
LAST-MODIFIED:20221223T004908Z
UID:11548-1677157200-1677169800@cvsbdc.org
SUMMARY:Fluvanna County Office Hours
DESCRIPTION:To sign up\, call 434-295-8198 or email contact@cvsbdc.org \nWalk-ins welcome
URL:https://cvsbdc.org/events/fluvanna-county-office-hours-2/
LOCATION:Fluvanna Chamber\, 177 Main St\, Palmyra\, VA\, 22963\, United States
CATEGORIES:In person event
ATTACH;FMTTYPE=image/png:https://cvsbdc.org/wp-content/uploads/2022/12/2-1.png
ORGANIZER;CN="Central Virginia Small Business Development Center (CVSBDC)":MAILTO:events@cvsbdc.org
END:VEVENT
BEGIN:VEVENT
DTSTART;TZID=UTC:20230227T083000
DTEND;TZID=UTC:20230227T160000
DTSTAMP:20260421T050718
CREATED:20230117T015527Z
LAST-MODIFIED:20230117T015527Z
UID:11752-1677486600-1677513600@cvsbdc.org
SUMMARY:Greene County Office Hours
DESCRIPTION:To sign up\, call 434-295-8198 or email contact@cvsbdc.org \nWalk-ins welcome
URL:https://cvsbdc.org/events/greene-county-office-hours/
LOCATION:Greene County Visitor’s Center\, 9157 Seminole Trail\, Ruckersville\, VA\, 22968\, United States
CATEGORIES:In person event
ATTACH;FMTTYPE=image/png:https://cvsbdc.org/wp-content/uploads/2023/01/February.png
ORGANIZER;CN="Central Virginia Small Business Development Center (CVSBDC)":MAILTO:events@cvsbdc.org
END:VEVENT
BEGIN:VEVENT
DTSTART;TZID=UTC:20230228T090000
DTEND;TZID=UTC:20230228T110000
DTSTAMP:20260421T050718
CREATED:20230110T003835Z
LAST-MODIFIED:20230116T232425Z
UID:11633-1677574800-1677582000@cvsbdc.org
SUMMARY:Planning for Success
DESCRIPTION:Founder’s Series Session 4\n\nDo you have a “living” business plan that supports your operations\, works well for you\, and that you can share with others?\nHave you looked at all 20 components of your business model to avoid blind spots?\n\nIn this interactive webinar you will learn several business planning models so you can choose the right tool(s) for you. You will also learn about the  quadrants of risk and how to effectively share your business concept for the purposes of planning\, managing\, or pitching your business.  \nREGISTER\nPresented by: \nRebecca Haydock is the Director of the Central Virginia Small Business Development Center\, investor and screening committee member of Charlottesville Angel Network\, and continues to be an owner and operator of businesses. After graduating from Cornell University and subsequently starting and selling her second business\, she worked in economic development specializing in access to capital in New York\, consulted in government contracting and business development in North Carolina\, and moved on to New Jersey to manage a portfolio of 20 early stage technology companies as a Director at Technology Management & Funding. Rebecca left TMF to become COO of two biotech companies in Virginia\, one of which sold to a pharmaceutical company. Rebecca is a Certified Global Business Professional and specializes in growth strategy and infrastructure\, contract preparedness\, strategic alliances\, and equity capital. Her experience focuses primarily on high growth-oriented early-stage businesses. As Director of CV SBDC she guides organizational excellence\, sustainable business practices\, and building of operational infrastructure for growth with an emphasis on acquiring human and financial assets. \n\n*More information on the Founder’s Series and Entrepreneurship certificate can be found here.* \nAdditional Founder’s Series classes currently scheduled: \n\nMar 7: Money and Recordkeeping
URL:https://cvsbdc.org/events/planning-for-success/
LOCATION:Online
CATEGORIES:Managing a Business,Online event
ATTACH;FMTTYPE=image/png:https://cvsbdc.org/wp-content/uploads/2022/09/EC-badge_state-1.png
ORGANIZER;CN="Central Virginia Small Business Development Center (CVSBDC)":MAILTO:events@cvsbdc.org
END:VEVENT
BEGIN:VEVENT
DTSTART;TZID=UTC:20230228T150000
DTEND;TZID=UTC:20230228T163000
DTSTAMP:20260421T050718
CREATED:20230228T001009Z
LAST-MODIFIED:20230228T001009Z
UID:12068-1677596400-1677601800@cvsbdc.org
SUMMARY:Government Contracting 101
DESCRIPTION:Are you interested in Federal Government Contracting?\nJoin us and learn strategies and tips for securing government business.\nREGISTER\nONLINE event via Zoom \n\nJoin Latasha Brooks\, with over 10 years of experience as a business consultant and government contractor\, as she covers key topics\, including understanding the procurement process and how to get started with the #1 customer in the world.  \nYou will also have the opportunity to network with other business owners and industry professionals\, as well as ask questions and receive personalized guidance. Join us and gain the knowledge and resources you need to take your business to the next level. \n2023 Government Contracting Part 1 – GovCon is presented by\nSCORE Central Virginia\n 
URL:https://cvsbdc.org/events/government-contracting-101/
LOCATION:Online
CATEGORIES:Contracting,Hybrid event - online/in person
ATTACH;FMTTYPE=image/jpeg:https://cvsbdc.org/wp-content/uploads/2023/02/Screenshot2023-02-16at12.05.29PM.jpg
END:VEVENT
BEGIN:VEVENT
DTSTART;TZID=UTC:20230228T173000
DTEND;TZID=UTC:20230228T193000
DTSTAMP:20260421T050718
CREATED:20230209T005147Z
LAST-MODIFIED:20230209T005147Z
UID:11921-1677605400-1677612600@cvsbdc.org
SUMMARY:CvilleBioHub Monthly Speaker Series
DESCRIPTION:Our February panel will discuss the founder/funder relationship\, how to build it\, and why it’s about more than money. Refreshments served! \nAccess to capital should be the floor\, not the ceiling\, for entrepreneurs getting VC funding. But what constitutes a good founder/VC fit?\nThis month’s panel discussion will be a deep dive on the founder/funder relationship\, including – \nWhat non-financial attributes should founders seek from funders?\nWhere do approachability and coach-ability rank when VCs assess founders?\nHow much transparency should you grant your VC? How can you get comfortable that your interests are aligned?\nAnd more! \nFeatured speakers include Ian Connett\, Connett PC; Alex Euler\, Senior Investment Director\, Virginia Venture Partners; Andy Krouse\, President and CEO\, Slate Bio; and others TBD!
URL:https://cvsbdc.org/events/cvillebiohub-monthly-speaker-series/
LOCATION:InBio\, 700 Harris St\, Charlottesville\, VA\, 22903\, United States
END:VEVENT
END:VCALENDAR