BEGIN:VCALENDAR
VERSION:2.0
PRODID:-//Central Virginia Small Business Development Center - ECPv6.15.20//NONSGML v1.0//EN
CALSCALE:GREGORIAN
METHOD:PUBLISH
X-ORIGINAL-URL:https://cvsbdc.org
X-WR-CALDESC:Events for Central Virginia Small Business Development Center
REFRESH-INTERVAL;VALUE=DURATION:PT1H
X-Robots-Tag:noindex
X-PUBLISHED-TTL:PT1H
BEGIN:VTIMEZONE
TZID:UTC
BEGIN:STANDARD
TZOFFSETFROM:+0000
TZOFFSETTO:+0000
TZNAME:UTC
DTSTART:20200101T000000
END:STANDARD
END:VTIMEZONE
BEGIN:VEVENT
DTSTART;TZID=UTC:20211116T120000
DTEND;TZID=UTC:20211116T130000
DTSTAMP:20260421T050648
CREATED:20211028T183314Z
LAST-MODIFIED:20211028T183314Z
UID:8497-1637064000-1637067600@cvsbdc.org
SUMMARY:Google Analytics
DESCRIPTION:Join us as we discuss and analyze trends about how customers engage with your business online\, then turn these insights into well-informed\, actionable decisions. We will discuss using Google Analytics to help you collect and interpret real-time information\, review some of the reports and terms used so you can learn more about your target audience and how to achieve your business goals. \nDuring this session we will discuss: \n\nIdentifying business goals (and how you plan to use your online presence to achieve them)\nIncorporating data into your plan\nA focus on introducing Google Analytics and how to use this tool to make better business decision\n\n  \nPresented by Grow with Google speaker\, Randi Penfil \nRandi is a speaker for the Grow with Google partner program. She has more than 20  years  of experience helping small businesses  and nonprofits improve their digital marketing. \nAs a professional speaker and trainer\, Randi has educated thousands of small businesses and entrepreneurs. Before becoming a Google-supported trainer\, Randi educated and trained SMBs for Constant Contact as the Mid-Atlantic Regional Development Director. She brings enthusiasm and experience to every workshop and conversation about digital marketing. Her passion is helping small businesses take control of their digital footprint. \nThanks to Shenandoah Valley SBDC\, Shenandoah Valley Technology Council\, Blue Ridge Community College\, Virginia State SBDC\, Lord Fairfax SBDC\, Central Virginia SBDC and SCCF for hosting this webinar along with Grow with Google. \n  \nREGISTER
URL:https://cvsbdc.org/events/google-analytics/
LOCATION:Online
CATEGORIES:Marketing & Social Media,Online event,Technology
ATTACH;FMTTYPE=image/png:https://cvsbdc.org/wp-content/uploads/2021/08/GwG_horizontal_logo.png
END:VEVENT
BEGIN:VEVENT
DTSTART;TZID=UTC:20211130T120000
DTEND;TZID=UTC:20211130T130000
DTSTAMP:20260421T050648
CREATED:20211123T194949Z
LAST-MODIFIED:20211123T195348Z
UID:8708-1638273600-1638277200@cvsbdc.org
SUMMARY:Innovations in Clinical Trials & Research
DESCRIPTION:How longstanding changes and innovations driven by the COVID era will impact the future environment for clinical trials and research. \nAbout this event:\nInnovations in the clinical trial space driven by the COVID era are here to stay. In this panel we discuss where innovation and disruption is happening\, how companies are becoming more creative in a new virtual environment\, and how companies in the regional biotech industry are working to reimagine systems\, engagement and investment. We also explore emerging trends and what the future holds for growth in this sector. \nPanelists:\nMavis Waller\, VP\, Clincial Operations\, HemoShear Therapeutics\nJoel Selzer\, Co-founder and CEO\, ArcheMedX\nJeff Pompeo\, President and CEO\, Caretaker Medical \nFor More Info/to Register
URL:https://cvsbdc.org/events/innovations-in-clinical-trials-research-2/
LOCATION:Online
CATEGORIES:Online event,Technology
ATTACH;FMTTYPE=image/jpeg:https://cvsbdc.org/wp-content/uploads/2021/11/biohub-1.jpg
END:VEVENT
END:VCALENDAR