BEGIN:VCALENDAR
VERSION:2.0
PRODID:-//Central Virginia Small Business Development Center - ECPv6.15.20//NONSGML v1.0//EN
CALSCALE:GREGORIAN
METHOD:PUBLISH
X-ORIGINAL-URL:https://cvsbdc.org
X-WR-CALDESC:Events for Central Virginia Small Business Development Center
REFRESH-INTERVAL;VALUE=DURATION:PT1H
X-Robots-Tag:noindex
X-PUBLISHED-TTL:PT1H
BEGIN:VTIMEZONE
TZID:UTC
BEGIN:STANDARD
TZOFFSETFROM:+0000
TZOFFSETTO:+0000
TZNAME:UTC
DTSTART:20200101T000000
END:STANDARD
END:VTIMEZONE
BEGIN:VEVENT
DTSTART;TZID=UTC:20211005T130000
DTEND;TZID=UTC:20211005T140000
DTSTAMP:20260421T064945
CREATED:20210929T001339Z
LAST-MODIFIED:20210929T001339Z
UID:8244-1633438800-1633442400@cvsbdc.org
SUMMARY:Use YouTube to Grow Your Business
DESCRIPTION:Let’s talk about YouTube! \nAre you thinking of creating a YouTube Channel? Are you currently using YouTube for your business? Not sure how to get started or how to build your channel? This is the webinar for you.  \nDuring this webinar we will discuss:  \n\nWhy you should have a YouTube channel\nHow to set up a YouTube channel\nWhat’s important to fill out when uploading a video\nMaking good creative\, and how to target and measure the results\n\n  \nPresented by Grow with Google speaker\, Randi Penfil \nRandi is a speaker for the Grow with Google partner program. She has more than 20  years  of experience helping small businesses  and nonprofits improve their digital marketing. \nAs a professional speaker and trainer\, Randi has educated thousands of small businesses and entrepreneurs. Before becoming a Google-supported trainer\, Randi educated and trained SMBs for Constant Contact as the Mid-Atlantic Regional Development Director. She brings enthusiasm and experience to every workshop and conversation about digital marketing. Her passion is helping small businesses take control of their digital footprint. \nThanks to Shenandoah Valley SBDC\, Shenandoah Valley Technology Council\, Blue Ridge Community College\, Virginia State SBDC\, Lord Fairfax SBDC\, Central Virginia SBDC and SCCF for hosting this webinar along with Grow with Google. \n  \nREGISTER
URL:https://cvsbdc.org/events/use-youtube-to-grow-your-business/
LOCATION:Online
CATEGORIES:Managing a Business,Online event,Technology
ATTACH;FMTTYPE=image/png:https://cvsbdc.org/wp-content/uploads/2021/08/GwG_horizontal_logo.png
END:VEVENT
BEGIN:VEVENT
DTSTART;TZID=UTC:20211028T100000
DTEND;TZID=UTC:20211028T110000
DTSTAMP:20260421T064945
CREATED:20211007T180315Z
LAST-MODIFIED:20211007T180315Z
UID:8292-1635415200-1635418800@cvsbdc.org
SUMMARY:Google Ads Basics
DESCRIPTION:Let’s talk about Google Ads\nAre you thinking about using Google Ads but not sure where to start? This is the workshop for you! \nDuring this webinar we will discuss:  \n\nHow to create an account and set up an ad campaign\nHow to write great ads\, refine keywords\, and include ad extensions\nHow to measure success\n\n  \nPresented by Grow with Google speaker\, Randi Penfil \nRandi is a speaker for the Grow with Google partner program. She has more than 20  years  of experience helping small businesses  and nonprofits improve their digital marketing. \nAs a professional speaker and trainer\, Randi has educated thousands of small businesses and entrepreneurs. Before becoming a Google-supported trainer\, Randi educated and trained SMBs for Constant Contact as the Mid-Atlantic Regional Development Director. She brings enthusiasm and experience to every workshop and conversation about digital marketing. Her passion is helping small businesses take control of their digital footprint. \nThanks to Shenandoah Valley SBDC\, Shenandoah Valley Technology Council\, Blue Ridge Community College\, Virginia State SBDC\, Lord Fairfax SBDC\, Central Virginia SBDC and SCCF for hosting this webinar along with Grow with Google. \n  \nREGISTER
URL:https://cvsbdc.org/events/google-ads-basics/
LOCATION:Online
CATEGORIES:Marketing & Social Media,Online event,Technology
ATTACH;FMTTYPE=image/png:https://cvsbdc.org/wp-content/uploads/2021/08/GwG_horizontal_logo.png
END:VEVENT
END:VCALENDAR