BEGIN:VCALENDAR
VERSION:2.0
PRODID:-//Central Virginia Small Business Development Center - ECPv6.15.20//NONSGML v1.0//EN
CALSCALE:GREGORIAN
METHOD:PUBLISH
X-ORIGINAL-URL:https://cvsbdc.org
X-WR-CALDESC:Events for Central Virginia Small Business Development Center
REFRESH-INTERVAL;VALUE=DURATION:PT1H
X-Robots-Tag:noindex
X-PUBLISHED-TTL:PT1H
BEGIN:VTIMEZONE
TZID:UTC
BEGIN:STANDARD
TZOFFSETFROM:+0000
TZOFFSETTO:+0000
TZNAME:UTC
DTSTART:20200101T000000
END:STANDARD
END:VTIMEZONE
BEGIN:VEVENT
DTSTART;TZID=UTC:20210914T093000
DTEND;TZID=UTC:20210914T103000
DTSTAMP:20260423T062442
CREATED:20210902T220710Z
LAST-MODIFIED:20210902T220710Z
UID:8009-1631611800-1631615400@cvsbdc.org
SUMMARY:Get Your Local Business on Google Search and Maps
DESCRIPTION:Get Your Local Business on Google Search and Maps \nWant your business to be found online? Need to figure out how to manage your business on Google Search and Maps? This is the workshop for you. \nJoin us to learn how to connect with customers on Google Search and Maps.  We will highlight the importance of verifying and how to use your Google Business Profile effectively. \nDuring this webinar we will discuss: \n\nCreate or claim your Business Profile on Google\nManage your business info across Google Search and Maps\nUse your Business Profile to connect with potential customers\nTips\, tricks and what’s new!\nHands-on demo of features discussed during webinar\n\n  \nPresented by Grow with Google speaker\, Randi Penfil \nRandi is a speaker for the Grow with Google partner program. She has more than 20  years  of experience helping small businesses  and nonprofits improve their digital marketing. \nAs a professional speaker and trainer\, Randi has educated thousands of small businesses and entrepreneurs. Before becoming a Google-supported trainer\, Randi educated and trained SMBs for Constant Contact as the Mid-Atlantic Regional Development Director. She brings enthusiasm and experience to every workshop and conversation about digital marketing. Her passion is helping small businesses take control of their digital footprint. \nThanks to Shenandoah Valley SBDC\, Shenandoah Valley Technology Council\, Blue Ridge Community College\, Virginia State SBDC\, Lord Fairfax SBDC\, Central Virginia SBDC and SCCF for hosting this webinar along with Grow with Google. \n \nREGISTER
URL:https://cvsbdc.org/events/get-your-local-business-on-google-search-and-maps/
LOCATION:Online
CATEGORIES:Managing a Business,Online event,Technology
ATTACH;FMTTYPE=image/png:https://cvsbdc.org/wp-content/uploads/2021/08/GwG_horizontal_logo.png
END:VEVENT
END:VCALENDAR