BEGIN:VCALENDAR
VERSION:2.0
PRODID:-//Central Virginia Small Business Development Center - ECPv6.15.20//NONSGML v1.0//EN
CALSCALE:GREGORIAN
METHOD:PUBLISH
X-ORIGINAL-URL:https://cvsbdc.org
X-WR-CALDESC:Events for Central Virginia Small Business Development Center
REFRESH-INTERVAL;VALUE=DURATION:PT1H
X-Robots-Tag:noindex
X-PUBLISHED-TTL:PT1H
BEGIN:VTIMEZONE
TZID:UTC
BEGIN:STANDARD
TZOFFSETFROM:+0000
TZOFFSETTO:+0000
TZNAME:UTC
DTSTART:20200101T000000
END:STANDARD
END:VTIMEZONE
BEGIN:VEVENT
DTSTART;TZID=UTC:20210805T120000
DTEND;TZID=UTC:20210805T130000
DTSTAMP:20260423T074337
CREATED:20210721T213901Z
LAST-MODIFIED:20210804T201319Z
UID:7646-1628164800-1628168400@cvsbdc.org
SUMMARY:MANAGING YOUR WORDPRESS WEBSITE | DIGITAL BOOTCAMP SERIES
DESCRIPTION:Learn how to create and/or better manage your WordPress website!\nAre you looking for a simple\, yet effective website to use for your business? WordPress might be a good option! In this workshop\, we’ll cover “the basics” on creating and updating a WordPress site\, including: \n\nUser management\nPage creation and editing\nImage and video uploads\nPlugin management\nLinking to social media\n\nA confirmation email with the Zoom login information will be sent after registration\, please be on the lookout for it.\nInstructor: Cameron Nelson\, Chief Digital Advisor\, Virginia SBDC and CV SBDC \nMr. Nelson has over 18 years experience in technology\, and as a senior tech consultant in Silicon Valley helping Fortune 500 companies improve their digital marketing and eCommerce. At the same time he founded several tech companies\, including a SaaS website for tree preservation and a blockchain platform for nonprofits. Cameron is accomplished in language\, culture\, has an MBA and MA and believes new technology products have the ability to help shape our world for the better. \nREGISTER
URL:https://cvsbdc.org/events/managing-your-wordpress-website-digital-bootcamp-series/
LOCATION:VA
CATEGORIES:Marketing & Social Media,Online event,Technology,Website Development
END:VEVENT
BEGIN:VEVENT
DTSTART;TZID=UTC:20210811T120000
DTEND;TZID=UTC:20210811T130000
DTSTAMP:20260423T074337
CREATED:20210721T214534Z
LAST-MODIFIED:20210721T214534Z
UID:7648-1628683200-1628686800@cvsbdc.org
SUMMARY:FUNDAMENTAL CYBERSECURITY: PROTECTING YOUR BUSINESS AND INFORMATION
DESCRIPTION:Virginia SBDC Cybersecurity Advisor\, Tom Stamulis\, will discuss current threats impacting small businesses and the risks that could impact the operations of your business. He will introduce fundamental cybersecurity controls\, which are in alignment with the Cybersecurity Maturity Model (CMM) developed by the Department of Defense. He will provide instructions on how every small business can implement these controls using the people\, processes\, and technology they have in place. \n\nA confirmation email with the Zoom login information will be sent after registration\, please be on the lookout for it.\nREGISTER
URL:https://cvsbdc.org/events/fundamental-cybersecurity-protecting-your-business-and-information/
LOCATION:VA
CATEGORIES:Disaster Mitigation,Online event,Technology,Website Development
END:VEVENT
BEGIN:VEVENT
DTSTART;TZID=UTC:20210818T103000
DTEND;TZID=UTC:20210818T113000
DTSTAMP:20260423T074337
CREATED:20210810T003130Z
LAST-MODIFIED:20210810T003920Z
UID:7749-1629282600-1629286200@cvsbdc.org
SUMMARY:Reach Customers Online with Google
DESCRIPTION:Reach Customers Online with Google\nLearn how customers find your business online and how to promote your business using Search Engine Optimization (SEO) and Smart Campaigns in Google Ads. \nDuring this webinar we will discuss: \n\nImproving your website’s visibility in Google’s organic search results\, on all devices\nIntroduction to free tools to help your business appear online\nCreating a free Google My Business profile\nAdvertising your business on Google\n\nPresented by Grow with Google speaker\, Randi Penfil \n \nThanks to Shenandoah Valley SBDC\, Shenandoah Valley Technology Council\, Blue Ridge Community College\, Virginia State SBDC\, Lord Fairfax SBDC\, Central Virginia SBDC and SCCF for hosting this webinar along with Grow with Google. \n \nREGISTER
URL:https://cvsbdc.org/events/reach-customers-online-with-google/
LOCATION:Online
CATEGORIES:Managing a Business,Online event,Technology
ATTACH;FMTTYPE=image/png:https://cvsbdc.org/wp-content/uploads/2021/08/GwG_horizontal_logo.png
END:VEVENT
END:VCALENDAR