BEGIN:VCALENDAR
VERSION:2.0
PRODID:-//Central Virginia Small Business Development Center - ECPv6.15.20//NONSGML v1.0//EN
CALSCALE:GREGORIAN
METHOD:PUBLISH
X-ORIGINAL-URL:https://cvsbdc.org
X-WR-CALDESC:Events for Central Virginia Small Business Development Center
REFRESH-INTERVAL;VALUE=DURATION:PT1H
X-Robots-Tag:noindex
X-PUBLISHED-TTL:PT1H
BEGIN:VTIMEZONE
TZID:UTC
BEGIN:STANDARD
TZOFFSETFROM:+0000
TZOFFSETTO:+0000
TZNAME:UTC
DTSTART:20200101T000000
END:STANDARD
END:VTIMEZONE
BEGIN:VEVENT
DTSTART;TZID=UTC:20210707T120000
DTEND;TZID=UTC:20210707T133000
DTSTAMP:20260423T090257
CREATED:20210615T191710Z
LAST-MODIFIED:20210618T004959Z
UID:7457-1625659200-1625664600@cvsbdc.org
SUMMARY:Future Proofing Your Business with Blockchain
DESCRIPTION:FOMO on blockchain for your business? We’ve got you covered.\nWe demystify blockchain in this illustrative program that includes a panel of experts to answer your questions. \nThis session will cover:\n\nIntroduction to Blockchain\n\nBlockchain vs. bitcoin – how are they different?\n\n\nHow Blockchain can be used for Small Business\n\nAccepting cryptocurrency as a form of payment\nUse of smart contracts\nUsing blockchain to raise capital\n\n\nLooking towards the future of Blockchain Technologies\n\nMoving towards cryptocurrency as national currency\n\n\nIndustry Applications\nSafety and Privacy Concerns\n\n  \nInstructor:  \nCameron Nelson\, Chief Digital Advisor\, Virginia SBDC and Central Virginia SBDC\, has more than 18 years experience in technology\, and as a senior tech consultant in Silicon Valley helping Fortune 500 companies improve their digital marketing and eCommerce. At the same time he founded several tech companies\, including a SaaS website for tree preservation and a blockchain platform for nonprofits. Cameron is accomplished in language\, culture\, has an MBA and MA and believes new technology products have the ability to help shape our world for the better. \n  \nPanelists: \nBeth Burgin Waller\, Cybersecurity and Data Privacy Practice Chair\, Woods Rogers Attorneys at Law\, is a cybersecurity and data privacy attorney who uses her significant experience in technology to counsel clients on a broad range of issues. As chair of the Cybersecurity and Data Privacy Practice at Woods Rogers\, Beth advises clients both on cybersecurity concerns and privacy regulatory compliance. Beth is a Certified Information Privacy Professional with both U.S. and Europe designations (CIPP/US & CIPP/E) and a Certified Information Privacy Manager (CIPM) from the International Association of Privacy Professionals (IAPP). \nBeth’s experience on the intersection of technology and the law is extensive. Her clients range from Fortune 200 companies to municipalities and universities\, and span industries such as manufacturing\, healthcare\, banking\, and energy. Beth also advises clients in high-tech fields such as biotechnology and software development and has experience with clients pioneering new technologies such as blockchain and IoT devices. \nDr. Feras Klenk\, Blockchain researcher and Adjunct Professor\, University North Carolina\, is a recovering academic with a Ph.D. in the social sciences\, where he examined the infrastructures of Innovation and Entrepreneurship in Oman and their varied socio-cultural effects. He is currently a design researcher leading a study on education in the crypto space. \n  \nREGISTER\nOnce registered\, you will receive a confirmation email from centeric@clients.virginiasbdc.org\, our automated system. This email will contain the ZOOM LINK to join the workshop.  If you cannot find the email\, please check your spam folder.
URL:https://cvsbdc.org/events/future-proofing-your-business-with-blockchain/
LOCATION:VA
CATEGORIES:Managing a Business,Online event,Technology
ORGANIZER;CN="Central Virginia Small Business Development Center (CVSBDC)":MAILTO:events@cvsbdc.org
END:VEVENT
END:VCALENDAR