BEGIN:VCALENDAR
VERSION:2.0
PRODID:-//Central Virginia Small Business Development Center - ECPv6.15.20//NONSGML v1.0//EN
CALSCALE:GREGORIAN
METHOD:PUBLISH
X-ORIGINAL-URL:https://cvsbdc.org
X-WR-CALDESC:Events for Central Virginia Small Business Development Center
REFRESH-INTERVAL;VALUE=DURATION:PT1H
X-Robots-Tag:noindex
X-PUBLISHED-TTL:PT1H
BEGIN:VTIMEZONE
TZID:UTC
BEGIN:STANDARD
TZOFFSETFROM:+0000
TZOFFSETTO:+0000
TZNAME:UTC
DTSTART:20200101T000000
END:STANDARD
END:VTIMEZONE
BEGIN:VEVENT
DTSTART;TZID=UTC:20210518T090000
DTEND;TZID=UTC:20210518T100000
DTSTAMP:20260423T123518
CREATED:20210506T144538Z
LAST-MODIFIED:20210506T144618Z
UID:7224-1621328400-1621332000@cvsbdc.org
SUMMARY:Cybersecurity and Data Protection Awareness Training
DESCRIPTION:“Secure Towns” and North Star CMM \nMay 18th at 9:00 AM \nRegistration Information Below \nSmall businesses are under cyber and data-breach attacks by nation-states\, as well as organized and disorganized criminals\, who are stealing intellectual capital\, personal and business information\, creating havoc in business environments. America’s SBDC and local Small Business Development Centers (SBDCs) provide small businesses with simple awareness information and a path forward to a more in-depth assessment protection of critical confidential information. \n “Secure Towns” starts from the ground up to help you identify critical information\, understand your responsibility to care for it\, and provide a common direction with others in the community including the government. \nNorth Star CMM represents the direction needed that utilizes standards provided by the Department of Defense for this purpose. \nBy using this standards-based model\, it will make it easier for you to understand the how others can help you\, share resources\, and share practical methods to reduce costs and friction in communications. \nAmerica’s SBDC is supporting our local Central Virginia Small Business Development Center\, located in the Culpeper Economic Development Center\, as the host of a one hour zoom meeting on May 18th at 9:00 AM.   \nThis training/discussion will be provided for businesses on Level-1 of North Star CMM as basic cyber hygiene\, at no cost and will provide some basic things you can do to protect the information of your business\, employees\, and clients. \nFor those with more advanced needs\, this meeting will provide a foundation that can be built on with additional training at Level 2\, Intermediate Cyber Hygiene and Level 3\, Good Cyber Hygiene. \nCharlie Tupitza\, the Lead Cybersecurity and Data Protection Consultant for America’s SBDC’s national program is a town resident and will lead the class and will be joined in discussion with Tom Stamulis\, a Cybersecurity expert with the Virginia SBDC. \nFor any questions\, email:  dreardon@cvsbdc.org \nREGISTER HERE!\n 
URL:https://cvsbdc.org/events/cybersecurity-and-data-protection-awareness-training/
LOCATION:Orange County Economic Development Office\, 109 West Main Street\, Orange\, 22960\, United States
CATEGORIES:Online event,Technology
ORGANIZER;CN="Central Virginia Small Business Development Center (CVSBDC)":MAILTO:events@cvsbdc.org
END:VEVENT
END:VCALENDAR