BEGIN:VCALENDAR
VERSION:2.0
PRODID:-//Central Virginia Small Business Development Center - ECPv6.15.20//NONSGML v1.0//EN
CALSCALE:GREGORIAN
METHOD:PUBLISH
X-ORIGINAL-URL:https://cvsbdc.org
X-WR-CALDESC:Events for Central Virginia Small Business Development Center
REFRESH-INTERVAL;VALUE=DURATION:PT1H
X-Robots-Tag:noindex
X-PUBLISHED-TTL:PT1H
BEGIN:VTIMEZONE
TZID:UTC
BEGIN:STANDARD
TZOFFSETFROM:+0000
TZOFFSETTO:+0000
TZNAME:UTC
DTSTART:20200101T000000
END:STANDARD
END:VTIMEZONE
BEGIN:VEVENT
DTSTART;TZID=UTC:20210309T170000
DTEND;TZID=UTC:20210309T180000
DTSTAMP:20260423T154302
CREATED:20210117T231417Z
LAST-MODIFIED:20210117T231417Z
UID:6189-1615309200-1615312800@cvsbdc.org
SUMMARY:CBIC Tech on Tap
DESCRIPTION:CBIC’s Tech on Taps\, sponsored by Ting\, are a recurring event series held 2nd Tuesdays and are free for CBIC members and future-members. \nCBIC’s recurring event provides a monthly opportunity for tech enthusiasts to socialize\, collaborate\, share ideas and form professional relationships. Designed specifically for the entrepreneurial\, high-tech community\, this happy hour is casual. No panel discussions. No formal program. Occasionally we’ll throw in tech entrepreneur pitches for added fun and a few words from our sponsors or hosts. \nOpen to all tech businesses\, employees\, technologists\, and anyone interested in our region’s tech scene. We do ask that you RSVP via Eventbrite so we know you’re coming.
URL:https://cvsbdc.org/events/cbic-tech-on-tap-2/
LOCATION:Orange County Economic Development Office\, 109 West Main Street\, Orange\, 22960\, United States
CATEGORIES:Online event,Technology
ATTACH;FMTTYPE=image/jpeg:https://cvsbdc.org/wp-content/uploads/2021/01/Tech-on-Tap-1.jpg
END:VEVENT
END:VCALENDAR