BEGIN:VCALENDAR
VERSION:2.0
PRODID:-//Central Virginia Small Business Development Center - ECPv6.15.20//NONSGML v1.0//EN
CALSCALE:GREGORIAN
METHOD:PUBLISH
X-ORIGINAL-URL:https://cvsbdc.org
X-WR-CALDESC:Events for Central Virginia Small Business Development Center
REFRESH-INTERVAL;VALUE=DURATION:PT1H
X-Robots-Tag:noindex
X-PUBLISHED-TTL:PT1H
BEGIN:VTIMEZONE
TZID:UTC
BEGIN:STANDARD
TZOFFSETFROM:+0000
TZOFFSETTO:+0000
TZNAME:UTC
DTSTART:20210101T000000
END:STANDARD
END:VTIMEZONE
BEGIN:VEVENT
DTSTART;TZID=UTC:20221001T110000
DTEND;TZID=UTC:20221001T160000
DTSTAMP:20260423T075158
CREATED:20220915T200815Z
LAST-MODIFIED:20220915T201037Z
UID:10770-1664622000-1664640000@cvsbdc.org
SUMMARY:Carver Center Black Business Expo
DESCRIPTION:Learn more and RSVP HERE
URL:https://cvsbdc.org/events/carver-center-black-business-expo/
LOCATION:Carver Center\, 9432 James Madison Highway\, Rapidan\, VA\, 22733\, United States
CATEGORIES:In person event,Networking
ATTACH;FMTTYPE=image/jpeg:https://cvsbdc.org/wp-content/uploads/2022/09/carver-bbe.jpg
ORGANIZER;CN="George Washington Carver Regional High School Alumni Association":MAILTO:gwcrhsaa@gmail.com
END:VEVENT
BEGIN:VEVENT
DTSTART;TZID=UTC:20221006T080000
DTEND;TZID=UTC:20221006T170000
DTSTAMP:20260423T075158
CREATED:20220322T220415Z
LAST-MODIFIED:20220322T235749Z
UID:9696-1665043200-1665075600@cvsbdc.org
SUMMARY:VA Catalyst Conference
DESCRIPTION:Save the Dates – October 6 – 7\, 2022\nWith a Networking Reception on Wednesday\, October 5th\, the Virginia Catalyst and member universities\, along with our partner Virginia Bio\, invite you to a major life science conference and workshop in Richmond\, Virginia\n…to share best practices on company formation\,\ncommercializing technologies\, building teams and raising capital.\n\nMORE INFORMATION
URL:https://cvsbdc.org/events/va-catalyst-conference/
LOCATION:VA
CATEGORIES:Networking,Technology
ATTACH;FMTTYPE=image/png:https://cvsbdc.org/wp-content/uploads/2022/03/VA-Catalyst.png
END:VEVENT
BEGIN:VEVENT
DTSTART;TZID=UTC:20221007T080000
DTEND;TZID=UTC:20221007T170000
DTSTAMP:20260423T075158
CREATED:20220322T221643Z
LAST-MODIFIED:20220322T235727Z
UID:9716-1665129600-1665162000@cvsbdc.org
SUMMARY:VA Catalyst Conference
DESCRIPTION:Save the Dates – October 6 – 7\, 2022\nWith a Networking Reception on Wednesday\, October 5th\, the Virginia Catalyst and member universities\, along with our partner Virginia Bio\, invite you to a major life science conference and workshop in Richmond\, Virginia\n…to share best practices on company formation\,\ncommercializing technologies\, building teams and raising capital.\n\nMORE INFORMATION
URL:https://cvsbdc.org/events/va-catalyst-conference-3/
LOCATION:VA
CATEGORIES:Networking,Technology
ATTACH;FMTTYPE=image/png:https://cvsbdc.org/wp-content/uploads/2022/03/VA-Catalyst-1.png
END:VEVENT
BEGIN:VEVENT
DTSTART;TZID=UTC:20221011T083000
DTEND;TZID=UTC:20221011T093000
DTSTAMP:20260423T075158
CREATED:20220224T204221Z
LAST-MODIFIED:20220224T204222Z
UID:9368-1665477000-1665480600@cvsbdc.org
SUMMARY:Louisa County – Business Boost
DESCRIPTION:Join us for an hour and meet other businesses in Louisa County. We’ll have coffee & light morning refreshments available during the 15-minute mingle session. Next\, we’ll proceed to the introduction sessions to include: \n1. Get connected with your Chamber members and community \n2. Gain a Business Boost via the partnership with the Central Virginia Small Business Development Center \n3. Maximize your visibility with the Chamber \nMore Info/Register
URL:https://cvsbdc.org/events/louisa-county-business-boost-8/
LOCATION:Louisa Chamber Office\, 111 W Main Street\, Louisa\, VA\, 23093\, United States
CATEGORIES:Networking
ATTACH;FMTTYPE=image/jpeg:https://cvsbdc.org/wp-content/uploads/2022/02/Louisa-business-boost-logo-1.jpg
ORGANIZER;CN="Louisa Chamber of Commerce":MAILTO:info@louisachamber.org
END:VEVENT
BEGIN:VEVENT
DTSTART;TZID=UTC:20221012T083000
DTEND;TZID=UTC:20221012T123000
DTSTAMP:20260423T075158
CREATED:20220630T002741Z
LAST-MODIFIED:20220913T182740Z
UID:10384-1665563400-1665577800@cvsbdc.org
SUMMARY:Quad Business Summit & QuadTank Pitch Competition
DESCRIPTION:The 7th annual Quad Business Summit will bring together businesses from the counties of Fluvanna\, Greene\, Louisa\, Madison\, Orange\, and others from Central Virginia for a half-day of networking opportunities. This is an IN-PERSON event\, and will take place at Shenandoah Crossing. \nThe Summit will also include a keynote speaker\, local business owner panel discussion with Q&A\, and the Annual QuadTank Pitch Competition. The highly anticipated QuadTank is a highlight of the Quad County Business Summit. Up to four finalists compete for the grand prize. \n2022 Agenda\nOctober 12\, 2022 \n8:30 am\nResource Fair\, Sign-in and Coffee \n9 am\nWelcome and Keynote Speaker\, Kelli Palmer (Chief Diversity Officer\, WillowTree) \n9:45 am\nLocal Business Owners Panel Discussion and Q&A \n10:30 am\nNetworking and lunch pick-up \n11 am\nQuadTank Pitch Competition & Lunch \n12 pm\nNetworking ​and QuadTank Judge Deliberations \n12:30 pm\nQuadTank winner announced \n  \nREGISTER for Quad Business Summit\nFor more information\, visit: www.qcbsummit.com \n\n  \nWin the Quad Tank Competition!\n \nDETAILS:  This is the fourth annual QuadTank Pitch Competition – an exciting addition to the Quad County Business Summit. The winning individual or team this year will be awarded a $6\,750 minimum cash prize to support implementation of their business plans. At the end of the Quad County Business Summit\, the winner will be chosen by a panel of judges. \nPROCESS:\n1) Participating individuals or teams schedule a meeting with a Central Virginia Small Business Development Center (CV SBDC) advisor anytime before September 16th to apply and discuss the project for which funding is being sought. Meetings will be scheduled at times convenient for the applicant(s).  Meetings are scheduled by CV SBDC’s Client Services Coordinator\, Mesa McMurtrey via email: contact@cvsbdc.org\, or by calling 434-295-8198. \n2) We recommend attending the one hour Pitch Preparation program offered via zoom on September 20\, noon-1:00pm to get tips and tricks and an explanation of the judging criteria. A recording of the program will be made available for those that cannot attend. \n3) Applicants prepare and submit a written description of the project\, a business plan or pitch deck no later than Monday\, September 26th at noon to QuadTank@cvsbdc.org. \n4) All applicants will be entered into consideration for Semi-finalists (up to 4) will be invited to present in person at Quad Business Summit on Wednesday\, October 12th. \nFORMAT:\nParticipants will be allotted a maximum of ten (10) minutes to pitch their idea or concept and five (5) minutes for Q&A with the judges. Participants may use PowerPoint\, Canva\, GoogleSlides or other visual aids\, or props during their pitch. Final pitch visuals should be submitted to QuadTank@cvsbdc.org 48 hours prior to presentation\, as a backup\, in case there are issues with technology. Props may be used but should be discussed with CV SBDC’s Event Coordinator\, Shira Goldeen (events@cvsbdc.org) in advance. \n  \n\nShenandoah Crossings Resort is offering a special rate for any Quad Business Summit attendees to stay on the property. Reservations for Oct. 11 – Oct. 13 are available via this link. \nLocated on over 1\,000 acres of rolling hillside and lush pasturelands with a scenic 60-acre lake\, Shenandoah Crossing is the perfect place for those who love the outdoors. The ambience at Shenandoah Crossing reflects history and wilderness. The resort combines an old country estate and horse farm\, with acres of wilderness in a pristine area that lies just beyond the Shenandoah Valley. Enjoy an exciting variety of accommodations. Choose from traditional 2-bedroom to well-appointed 3-bedroom cabins\, chalet-style homes\, and glamorous yurts. Shenandoah Crossing also features state-of-the-art RV sites.
URL:https://cvsbdc.org/events/quad-business-summit-quadtank-pitch-competition/
LOCATION:Shenandoah Crossing\, 174 Horseshoe Cir\, Gordonsville\, 22942
CATEGORIES:Networking
ATTACH;FMTTYPE=image/jpeg:https://cvsbdc.org/wp-content/uploads/2021/08/New-QuadSummit_FullLogoblk-e1629387926192.jpg
ORGANIZER;CN="Central Virginia Small Business Development Center (CVSBDC)":MAILTO:events@cvsbdc.org
END:VEVENT
BEGIN:VEVENT
DTSTART;TZID=UTC:20221018T080000
DTEND;TZID=UTC:20221018T100000
DTSTAMP:20260423T075158
CREATED:20220622T234923Z
LAST-MODIFIED:20220622T234923Z
UID:10396-1666080000-1666087200@cvsbdc.org
SUMMARY:Charlottesville Entrepreneurs and Espresso (ce-2)
DESCRIPTION:Get inspired \nMeet fellow entrepreneurs\nShare lessons learned\nc-e2 is a casual gathering of learning for entrepreneurs at all stages of venture creation. Get inspired\, meet fellow entrepreneurs\, share lessons learned\, and become a part of Charlottesville’s vibrant and growing entrepreneurial ecosystem.\n3RD TUESDAY OF EVERY MONTH\n8:00 A.M.\nLocation: CODE Building – Irving Theater \n  \nREGISTER
URL:https://cvsbdc.org/events/charlottesville-entrepreneurs-and-espresso-ce-2-14/
LOCATION:CODE Building – Irving Theater\, 225 W Water St\, Charlottesville\, VA\, 22902\, United States
CATEGORIES:Networking
ATTACH;FMTTYPE=image/jpeg:https://cvsbdc.org/wp-content/uploads/2021/08/entrepreneurs-and-expresso-cvsbdc-1.jpg
END:VEVENT
BEGIN:VEVENT
DTSTART;TZID=UTC:20221027T120000
DTEND;TZID=UTC:20221027T133000
DTSTAMP:20260423T075158
CREATED:20221011T232002Z
LAST-MODIFIED:20221011T232921Z
UID:10918-1666872000-1666877400@cvsbdc.org
SUMMARY:Build Your Social Media Plan
DESCRIPTION:Ready to “up your game” in regards to social media and make the end of 2022 more productive?\nYOU NEED A PLAN.\nSocial media can help you build stronger relationships with your customers and even meet new ones. But success on social isn’t magic. It takes consistent effort with a good strategy. \nJoin us for this session where you’ll learn how to: \n\nConsider social media versus other advertising strategies\nEvaluate various social media platforms and decide which one(s) are right for you\nCreate your own content plan\nConsider tools to make posting easier\nCome up with ideas for specific posts\, and more.\n\nPresented by Greg Dorazio\, Dorazio Communications \nRegister\n  \nCohosted by Fluvanna County Economic Development\, Fluvanna County Chamber of Commerce \n  \nStay for Part 2: Guided Social Media Plan Building
URL:https://cvsbdc.org/events/build-your-social-media-plan-2/
LOCATION:Hardware Hills Vineyard\, 5199 W River Rd\, Scottsville\, VA\, 24590\, United States
CATEGORIES:In person event,Marketing & Social Media,Networking
ATTACH;FMTTYPE=image/jpeg:https://cvsbdc.org/wp-content/uploads/2022/10/311574386_467629218726046_5232731322007984605_n.jpg
END:VEVENT
BEGIN:VEVENT
DTSTART;TZID=UTC:20221027T140000
DTEND;TZID=UTC:20221027T160000
DTSTAMP:20260423T075158
CREATED:20221011T232554Z
LAST-MODIFIED:20221011T232554Z
UID:10928-1666879200-1666886400@cvsbdc.org
SUMMARY:Guided Social Media Plan Building
DESCRIPTION:This workshop is designed to build upon “Build Your Social Media”. Presenter Greg Dorazio will walk you through creating images and context for posts using free media services and tips of the trade. By the end of the session\, you will have a month of posts created and ready to post!\nRegister\nCohosted by Fluvanna County Economic Development\, Fluvanna County Chamber of Commerce \n  \n\nDon’t miss part 1: Build Your Social Media Plan\nReady to “up your game” in regards to social media and make the end of 2022 more productive?\nYOU NEED A PLAN.\nSocial media can help you build stronger relationships with your customers and even meet new ones. But success on social isn’t magic. It takes consistent effort with a good strategy. \nLearn More\n  \nCohosted by Fluvanna County Economic Development\, Fluvanna County Chamber of Commerce
URL:https://cvsbdc.org/events/guided-social-media-plan-building/
LOCATION:Hardware Hills Vineyard\, 5199 W River Rd\, Scottsville\, VA\, 24590\, United States
CATEGORIES:In person event,Marketing & Social Media,Networking
ATTACH;FMTTYPE=image/jpeg:https://cvsbdc.org/wp-content/uploads/2022/10/311574386_467629218726046_5232731322007984605_n.jpg
END:VEVENT
END:VCALENDAR