BEGIN:VCALENDAR
VERSION:2.0
PRODID:-//Central Virginia Small Business Development Center - ECPv6.15.20//NONSGML v1.0//EN
CALSCALE:GREGORIAN
METHOD:PUBLISH
X-ORIGINAL-URL:https://cvsbdc.org
X-WR-CALDESC:Events for Central Virginia Small Business Development Center
REFRESH-INTERVAL;VALUE=DURATION:PT1H
X-Robots-Tag:noindex
X-PUBLISHED-TTL:PT1H
BEGIN:VTIMEZONE
TZID:UTC
BEGIN:STANDARD
TZOFFSETFROM:+0000
TZOFFSETTO:+0000
TZNAME:UTC
DTSTART:20210101T000000
END:STANDARD
END:VTIMEZONE
BEGIN:VEVENT
DTSTART;TZID=UTC:20220913T083000
DTEND;TZID=UTC:20220913T093000
DTSTAMP:20260423T092809
CREATED:20220216T214818Z
LAST-MODIFIED:20220217T183015Z
UID:9331-1663057800-1663061400@cvsbdc.org
SUMMARY:Louisa County – Business Boost
DESCRIPTION:Join us for an hour and meet other businesses in Louisa County. We’ll have coffee & light morning refreshments available during the 15-minute mingle session. Next\, we’ll proceed to the introduction sessions to include: \n1. Get connected with your Chamber members and community \n2. Gain a Business Boost via the partnership with the Central Virginia Small Business Development Center \n3. Maximize your visibility with the Chamber \nMore Info/Register
URL:https://cvsbdc.org/events/louisa-county-business-boost-4/
LOCATION:Louisa Chamber Office\, 111 W Main Street\, Louisa\, VA\, 23093\, United States
CATEGORIES:Networking
ATTACH;FMTTYPE=image/jpeg:https://cvsbdc.org/wp-content/uploads/2022/02/Louisa-business-boost-logo-e1644944157642.jpg
ORGANIZER;CN="Louisa Chamber of Commerce":MAILTO:info@louisachamber.org
END:VEVENT
BEGIN:VEVENT
DTSTART;TZID=UTC:20220915T160000
DTEND;TZID=UTC:20220915T190000
DTSTAMP:20260423T092809
CREATED:20220804T225721Z
LAST-MODIFIED:20220804T225721Z
UID:10660-1663257600-1663268400@cvsbdc.org
SUMMARY:Louisa Biz Expo 2022
DESCRIPTION:Come Connect!\nThe Louisa County Chamber of Commerce and Blue Ridge Bank would like to invite you to participate in the Louisa Biz Expo\, a business-to-business expo providing exhibitors the opportunity to showcase their services and connect with potential clients\, partners\, or referral networks. \n\nOpen to the public\nFree attendance\nProper protocols for health & safety in place\n\nSchedule of Event: \n4:00 – 4:15 Welcome/Sponsor Spotlights \n4:15 – 5:30 Exhibitor Networking \n\n30 minutes – Section A exhibitors remain at their booths while Section B exhibitors come to visit the booths (sections will be assigned by booth location on event day)\n30 minutes – Section B exhibitors remain at their booths while Section A exhibitors come to visit the booths (sections will be assigned by booth location on event day)\n\n5:30 – 7:00 Free Public Event \n\nLearn about local businesses\nDiscover job opportunities\nSample wine in the tasting room (fee applies)\n\nLearn more and Register
URL:https://cvsbdc.org/events/louisa-biz-expo-2022/
LOCATION:Fifty-Third Winery and Vineyards\, 13372 Shannon Hill Rd\, Louisa\, VA\, 23093\, United States
CATEGORIES:In person event,Networking
ATTACH;FMTTYPE=image/jpeg:https://cvsbdc.org/wp-content/uploads/2022/08/Final-Expo-2021-3.jpg
ORGANIZER;CN="Louisa Chamber of Commerce":MAILTO:info@louisachamber.org
END:VEVENT
BEGIN:VEVENT
DTSTART;TZID=UTC:20220920T080000
DTEND;TZID=UTC:20220920T100000
DTSTAMP:20260423T092809
CREATED:20220622T234854Z
LAST-MODIFIED:20220622T234854Z
UID:10394-1663660800-1663668000@cvsbdc.org
SUMMARY:Charlottesville Entrepreneurs and Espresso (ce-2)
DESCRIPTION:Get inspired \nMeet fellow entrepreneurs\nShare lessons learned\nc-e2 is a casual gathering of learning for entrepreneurs at all stages of venture creation. Get inspired\, meet fellow entrepreneurs\, share lessons learned\, and become a part of Charlottesville’s vibrant and growing entrepreneurial ecosystem.\n3RD TUESDAY OF EVERY MONTH\n8:00 A.M.\nLocation: CODE Building – Irving Theater \n  \nREGISTER
URL:https://cvsbdc.org/events/charlottesville-entrepreneurs-and-espresso-ce-2-13/
LOCATION:CODE Building – Irving Theater\, 225 W Water St\, Charlottesville\, VA\, 22902\, United States
CATEGORIES:Networking
ATTACH;FMTTYPE=image/jpeg:https://cvsbdc.org/wp-content/uploads/2021/08/entrepreneurs-and-expresso-cvsbdc-1.jpg
END:VEVENT
END:VCALENDAR