BEGIN:VCALENDAR
VERSION:2.0
PRODID:-//Central Virginia Small Business Development Center - ECPv6.15.20//NONSGML v1.0//EN
CALSCALE:GREGORIAN
METHOD:PUBLISH
X-ORIGINAL-URL:https://cvsbdc.org
X-WR-CALDESC:Events for Central Virginia Small Business Development Center
REFRESH-INTERVAL;VALUE=DURATION:PT1H
X-Robots-Tag:noindex
X-PUBLISHED-TTL:PT1H
BEGIN:VTIMEZONE
TZID:UTC
BEGIN:STANDARD
TZOFFSETFROM:+0000
TZOFFSETTO:+0000
TZNAME:UTC
DTSTART:20210101T000000
END:STANDARD
END:VTIMEZONE
BEGIN:VEVENT
DTSTART;TZID=UTC:20220809T083000
DTEND;TZID=UTC:20220809T093000
DTSTAMP:20260423T105410
CREATED:20220216T214540Z
LAST-MODIFIED:20220216T214636Z
UID:9328-1660033800-1660037400@cvsbdc.org
SUMMARY:Louisa County – Business Boost
DESCRIPTION:Join us for an hour and meet other businesses in Louisa County. We’ll have coffee & light morning refreshments available during the 15-minute mingle session. Next\, we’ll proceed to the introduction sessions to include: \n1. Get connected with your Chamber members and community \n2. Gain a Business Boost via the partnership with the Central Virginia Small Business Development Center \n3. Maximize your visibility with the Chamber \nMore Info/Register
URL:https://cvsbdc.org/events/louisa-county-business-boost-3/
LOCATION:Louisa Chamber Office\, 111 W Main Street\, Louisa\, VA\, 23093\, United States
CATEGORIES:Networking
ATTACH;FMTTYPE=image/jpeg:https://cvsbdc.org/wp-content/uploads/2022/02/Louisa-business-boost-logo-e1644944157642.jpg
ORGANIZER;CN="Louisa Chamber of Commerce":MAILTO:info@louisachamber.org
END:VEVENT
BEGIN:VEVENT
DTSTART;TZID=UTC:20220816T080000
DTEND;TZID=UTC:20220816T100000
DTSTAMP:20260423T105410
CREATED:20220622T234812Z
LAST-MODIFIED:20220622T234812Z
UID:10392-1660636800-1660644000@cvsbdc.org
SUMMARY:Charlottesville Entrepreneurs and Espresso (ce-2)
DESCRIPTION:Get inspired \nMeet fellow entrepreneurs\nShare lessons learned\nc-e2 is a casual gathering of learning for entrepreneurs at all stages of venture creation. Get inspired\, meet fellow entrepreneurs\, share lessons learned\, and become a part of Charlottesville’s vibrant and growing entrepreneurial ecosystem.\n3RD TUESDAY OF EVERY MONTH\n8:00 A.M.\nLocation: CODE Building – Irving Theater \n  \nREGISTER
URL:https://cvsbdc.org/events/charlottesville-entrepreneurs-and-espresso-ce-2-12/
LOCATION:CODE Building – Irving Theater\, 225 W Water St\, Charlottesville\, VA\, 22902\, United States
CATEGORIES:Networking
ATTACH;FMTTYPE=image/jpeg:https://cvsbdc.org/wp-content/uploads/2021/08/entrepreneurs-and-expresso-cvsbdc-1.jpg
END:VEVENT
BEGIN:VEVENT
DTSTART;TZID=UTC:20220831T083000
DTEND;TZID=UTC:20220831T100000
DTSTAMP:20260423T105410
CREATED:20220815T190701Z
LAST-MODIFIED:20220817T221050Z
UID:10680-1661934600-1661940000@cvsbdc.org
SUMMARY:Fluvanna: Writing Your Business Plan: New and Existing Businesses
DESCRIPTION:Using a business plan to start or expand your business\nDoes your business plan need work? Do you not have a business plan yet? Join us to learn the ins and outs of writing a business plan. \nA strong business plan offers a foundation for your small business to succeed. Business plans are used when expanding a business to make sure you maintain profitability and efficiency in operations\, help set guides for operations when you start\, and to ensure that you get the most bang for your buck. \nParticipants will receive a business model canvas\, business plan template\, and other useful handouts. \n  \n8:30-9:00 am: Networking with coffee & light refreshments\n9:00-10:00 am: Workshop in session\nIN PERSON event: Fluvanna County Library Meeting Room (free parking)\, 214  Commons Blvd\, Palmyra \nFee: $10 Fluvanna Chamber Members\, $15 Non-Members \nRegister\n  \nPresented by Rebecca Haydock\, Director\, CV SBDC \nRebecca Haydock is the Director of the Central Virginia Small Business Development Center\, a member of an active regional investor group\, a multi-business owner\, and has started\, grown\, and operated companies from bagels to biotech. She has been advising and mentoring companies for 30 years and is a financial and marketing strategist that gets fully energized when she hears “I want to start a business” or “I want to grow my business.”\n\nRebecca will talk about the tips and tools that successful entrepreneurs have in common and how to fit those into a fulfilling personal and business life. She will go over these tools and is available to chat in a group setting and confidentially\, one-on-one.\n  \nPresented with Fluvanna County\, VA Economic Development Authority\, Fluvanna County Chamber of Commerce\, and Fluvanna Economic Development \n  \n 
URL:https://cvsbdc.org/events/writing-your-business-plan-new-and-existing-businesses/
LOCATION:Fluvanna County Library\, 214 Commons Blvd\, Palmyra\, VA\, 22963\, United States
CATEGORIES:In person event,Managing a Business,Networking
ORGANIZER;CN="Central Virginia Small Business Development Center (CVSBDC)":MAILTO:events@cvsbdc.org
END:VEVENT
END:VCALENDAR