BEGIN:VCALENDAR
VERSION:2.0
PRODID:-//Central Virginia Small Business Development Center - ECPv6.15.20//NONSGML v1.0//EN
CALSCALE:GREGORIAN
METHOD:PUBLISH
X-ORIGINAL-URL:https://cvsbdc.org
X-WR-CALDESC:Events for Central Virginia Small Business Development Center
REFRESH-INTERVAL;VALUE=DURATION:PT1H
X-Robots-Tag:noindex
X-PUBLISHED-TTL:PT1H
BEGIN:VTIMEZONE
TZID:UTC
BEGIN:STANDARD
TZOFFSETFROM:+0000
TZOFFSETTO:+0000
TZNAME:UTC
DTSTART:20210101T000000
END:STANDARD
END:VTIMEZONE
BEGIN:VEVENT
DTSTART;TZID=UTC:20220301T090000
DTEND;TZID=UTC:20220301T100000
DTSTAMP:20260423T182841
CREATED:20211201T205541Z
LAST-MODIFIED:20220211T190701Z
UID:8796-1646125200-1646128800@cvsbdc.org
SUMMARY:Women Business Owners\, Entrepreneurs\, and Leaders' Coffee
DESCRIPTION:Meet at C’Ville Coffee the first Tuesday of every month.  Come with ideas\, questions\, and topics you want to discuss with other women business owners and leaders.  What is working for you? What are your challenges?  What do you need help with? How can you help someone else?  The cost of this meetup is to support those who are helping us.  Please support C’Ville Coffee by buying a beverage or snack. \nLocation:  Cville Coffee\, Harris St & Allied Ln\, Charlottesville\, VA \nWhat we’re about:  This group is for women business owners\, entrepreneurs\, and leaders who want to network and support each other as we grow our businesses. Bring ideas\, questions\, and topics you need help with. Members will have the opportunity to mentor and be mentored\, to work together to help each other. \nFree event \nRegister to attend
URL:https://cvsbdc.org/events/women-business-owners-entrepreneurs-and-leaders-coffee-4/
LOCATION:C’ville Coffee\, 1301 Harris Street\, Charlottesville\, VA\, 22903\, United States
CATEGORIES:Networking
ATTACH;FMTTYPE=image/jpeg:https://cvsbdc.org/wp-content/uploads/2021/12/ladies-having-coffee-1-scaled-e1638374560412.jpg
END:VEVENT
BEGIN:VEVENT
DTSTART;TZID=UTC:20220308T083000
DTEND;TZID=UTC:20220308T093000
DTSTAMP:20260423T182841
CREATED:20220215T213653Z
LAST-MODIFIED:20220215T231104Z
UID:9266-1646728200-1646731800@cvsbdc.org
SUMMARY:Louisa County - Business Boost
DESCRIPTION:Join us for an hour and meet other businesses in Louisa County. We’ll have coffee & light morning refreshments available during the 15-minute mingle session. Next\, we’ll proceed to the introduction sessions to include: \n1. Get connected with your Chamber members and community \n2. Gain a Business Boost via the partnership with the Central Virginia Small Business Development Center \n3. Maximize your visibility with the Chamber \nMore Info/Register
URL:https://cvsbdc.org/events/business-boost-louisa-county/
LOCATION:Louisa Chamber Office\, 111 W Main Street\, Louisa\, VA\, 23093\, United States
CATEGORIES:Networking
ATTACH;FMTTYPE=image/jpeg:https://cvsbdc.org/wp-content/uploads/2022/02/Louisa-business-boost-logo-e1644944157642.jpg
ORGANIZER;CN="Louisa Chamber of Commerce":MAILTO:info@louisachamber.org
END:VEVENT
BEGIN:VEVENT
DTSTART;TZID=UTC:20220309T173000
DTEND;TZID=UTC:20220309T193000
DTSTAMP:20260423T182841
CREATED:20220215T211736Z
LAST-MODIFIED:20220215T224345Z
UID:9222-1646847000-1646854200@cvsbdc.org
SUMMARY:LET’S CONNECT Event
DESCRIPTION:The Dairy Market is excited to host the Charlottesville Regional Chamber of Commerce’s Let’s Connect networking event for March.  This will be held  in the Brick Cellar event space. \nFor More Info\n 
URL:https://cvsbdc.org/events/lets-connect-event/
LOCATION:Dairy Market\, 946 Grady Avenue\, Charlottesville\, Virginia\, 22903\, United States
CATEGORIES:Networking
ATTACH;FMTTYPE=image/png:https://cvsbdc.org/wp-content/uploads/2022/02/cville-chamber-e1644944017689.png
ORGANIZER;CN="Charlottesville Regional Chamber of Commerce":MAILTO:connect@cvillechamber.com
END:VEVENT
BEGIN:VEVENT
DTSTART;TZID=UTC:20220314T113000
DTEND;TZID=UTC:20220314T130000
DTSTAMP:20260423T182841
CREATED:20220127T210132Z
LAST-MODIFIED:20220127T210132Z
UID:9098-1647257400-1647262800@cvsbdc.org
SUMMARY:Ribbon Cutting: Lake Anna Real Estate Group
DESCRIPTION:Join us to celebrate the 3 year anniversary of Lake Anna Real Estate Group!
URL:https://cvsbdc.org/events/ribbon-cutting-lake-anna-real-estate-group/
LOCATION:Lake Anna Real Estate Group\, 5700 Fenton Rd\, Spotsylvania\, VA\, 22551\, United States
CATEGORIES:Networking
ATTACH;FMTTYPE=image/jpeg:https://cvsbdc.org/wp-content/uploads/2022/01/2.jpg
ORGANIZER;CN="Louisa Chamber of Commerce":MAILTO:info@louisachamber.org
END:VEVENT
BEGIN:VEVENT
DTSTART;TZID=UTC:20220315T080000
DTEND;TZID=UTC:20220315T100000
DTSTAMP:20260423T182841
CREATED:20220302T204628Z
LAST-MODIFIED:20220302T204628Z
UID:9426-1647331200-1647338400@cvsbdc.org
SUMMARY:Charlottesville Entrepreneurs and Espresso (ce-2)
DESCRIPTION:Get inspired \nMeet fellow entrepreneurs\nShare lessons learned\nc-e2 is a casual gathering of learning for entrepreneurs at all stages of venture creation. Get inspired\, meet fellow entrepreneurs\, share lessons learned\, and become a part of Charlottesville’s vibrant and growing entrepreneurial ecosystem.\nc-e2 Goes LIVE! Join us for the first in person meeting of the year! \n3RD TUESDAY OF EVERY MONTH\n8:00 A.M.\nLocation: CODE Building – Irving Theater \n  \nREGISTER
URL:https://cvsbdc.org/events/charlottesville-entrepreneurs-and-espresso-ce-2-7/
LOCATION:CODE Building – Irving Theater\, 225 W Water St\, Charlottesville\, VA\, 22902\, United States
CATEGORIES:Networking
ATTACH;FMTTYPE=image/jpeg:https://cvsbdc.org/wp-content/uploads/2021/08/entrepreneurs-and-expresso-cvsbdc-1.jpg
ORGANIZER;CN="Central Virginia Small Business Development Center (CVSBDC)":MAILTO:events@cvsbdc.org
END:VEVENT
END:VCALENDAR