BEGIN:VCALENDAR
VERSION:2.0
PRODID:-//Central Virginia Small Business Development Center - ECPv6.15.20//NONSGML v1.0//EN
CALSCALE:GREGORIAN
METHOD:PUBLISH
X-ORIGINAL-URL:https://cvsbdc.org
X-WR-CALDESC:Events for Central Virginia Small Business Development Center
REFRESH-INTERVAL;VALUE=DURATION:PT1H
X-Robots-Tag:noindex
X-PUBLISHED-TTL:PT1H
BEGIN:VTIMEZONE
TZID:UTC
BEGIN:STANDARD
TZOFFSETFROM:+0000
TZOFFSETTO:+0000
TZNAME:UTC
DTSTART:20210101T000000
END:STANDARD
END:VTIMEZONE
BEGIN:VEVENT
DTSTART;TZID=UTC:20220201T090000
DTEND;TZID=UTC:20220201T100000
DTSTAMP:20260423T195611
CREATED:20211201T205033Z
LAST-MODIFIED:20211201T210527Z
UID:8793-1643706000-1643709600@cvsbdc.org
SUMMARY:Women Business Owners\, Entrepreneurs\, and Leaders' Coffee
DESCRIPTION:Meet at C’Ville Coffee the first Tuesday of every month.  Come with ideas\, questions\, and topics you want to discuss with other women business owners and leaders.  What is working for you? What are your challenges?  What do you need help with? How can you help someone else?  The cost of this meetup is to support those who are helping us.  Please support C’Ville Coffee by buying a beverage or snack. \nLocation:  Cville Coffee\, Harris St & Allied Ln\, Charlottesville\, VA \nWhat we’re about:  This group is for women business owners\, entrepreneurs\, and leaders who want to network and support each other as we grow our businesses. Bring ideas\, questions\, and topics you need help with. Members will have the opportunity to mentor and be mentored\, to work together to help each other. \nFree event \nRegister to attend
URL:https://cvsbdc.org/events/women-business-owners-entrepreneurs-and-leaders-coffee-2/
LOCATION:C’ville Coffee\, 1301 Harris Street\, Charlottesville\, VA\, 22903\, United States
CATEGORIES:Networking
ATTACH;FMTTYPE=image/jpeg:https://cvsbdc.org/wp-content/uploads/2021/12/ladies-having-coffee-1-scaled-e1638374560412.jpg
END:VEVENT
BEGIN:VEVENT
DTSTART;TZID=UTC:20220208T083000
DTEND;TZID=UTC:20220208T093000
DTSTAMP:20260423T195611
CREATED:20220127T205409Z
LAST-MODIFIED:20220127T205944Z
UID:9092-1644309000-1644312600@cvsbdc.org
SUMMARY:Business Boost & Orientation
DESCRIPTION:Join us for a one-hour and meet other businesses in Louisa County. \nWe’ll have coffee & light morning refreshments available during the 15-minute mingle session. \nNext\, we’ll proceed to the introduction sessions to include: \n1. Get connected with your Chamber members and community \n2. Gain a Business Boost via the partnership with the Central Virginia Small Business Development Center \n3. Maximize your visibility with the Chamber \nRegister
URL:https://cvsbdc.org/events/business-boost-orientation/
LOCATION:Louisa Chamber Office\, 111 W Main Street\, Louisa\, VA\, 23093\, United States
CATEGORIES:Networking
ATTACH;FMTTYPE=image/png:https://cvsbdc.org/wp-content/uploads/2022/01/Template-Event-Cover.png
ORGANIZER;CN="Louisa Chamber of Commerce":MAILTO:info@louisachamber.org
END:VEVENT
BEGIN:VEVENT
DTSTART;TZID=UTC:20220215T080000
DTEND;TZID=UTC:20220215T100000
DTSTAMP:20260423T195611
CREATED:20220118T192704Z
LAST-MODIFIED:20220118T192704Z
UID:9054-1644912000-1644919200@cvsbdc.org
SUMMARY:Charlottesville Entrepreneurs and Espresso (ce-2)
DESCRIPTION:Get inspired \nMeet fellow entrepreneurs\nShare lessons learned\nc-e2 is a casual gathering of learning for entrepreneurs at all stages of venture creation. Get inspired\, meet fellow entrepreneurs\, share lessons learned\, and become a part of Charlottesville’s vibrant and growing entrepreneurial ecosystem.\n3RD TUESDAY OF EVERY MONTH\n8:00 A.M.\nVIRTUAL MEETING DUE TO COVID19 \n  \nREGISTER
URL:https://cvsbdc.org/events/charlottesville-entrepreneurs-and-espresso-ce-2-6/
LOCATION:Online
CATEGORIES:Networking,Online event
ATTACH;FMTTYPE=image/jpeg:https://cvsbdc.org/wp-content/uploads/2021/08/entrepreneurs-and-expresso-cvsbdc-1.jpg
END:VEVENT
END:VCALENDAR