BEGIN:VCALENDAR
VERSION:2.0
PRODID:-//Central Virginia Small Business Development Center - ECPv6.15.20//NONSGML v1.0//EN
CALSCALE:GREGORIAN
METHOD:PUBLISH
X-ORIGINAL-URL:https://cvsbdc.org
X-WR-CALDESC:Events for Central Virginia Small Business Development Center
REFRESH-INTERVAL;VALUE=DURATION:PT1H
X-Robots-Tag:noindex
X-PUBLISHED-TTL:PT1H
BEGIN:VTIMEZONE
TZID:UTC
BEGIN:STANDARD
TZOFFSETFROM:+0000
TZOFFSETTO:+0000
TZNAME:UTC
DTSTART:20230101T000000
END:STANDARD
END:VTIMEZONE
BEGIN:VEVENT
DTSTART;TZID=UTC:20240313T160000
DTEND;TZID=UTC:20240313T180000
DTSTAMP:20260423T064408
CREATED:20240131T210626Z
LAST-MODIFIED:20240131T210626Z
UID:14447-1710345600-1710352800@cvsbdc.org
SUMMARY:BET 4: Marketing\, Sales\, & Your Brand
DESCRIPTION:Get clear up front on your business costs\, how to establish prices and project profitability\, considering the value proposition of your product or service.\n\nAre your costs and profit margins designed to reach industry norms?\nIs your pricing strategy appropriate to engage and retain customers?\nWill this business make enough to support myself and/or my family?\n\nIn this workshop we discuss effective cost of goods sold management and give you tools to prepare to launch a new product or service. \nHYBRID event: In person for Piedmont Pitch cohort at 300 Preston Ave\, 2nd floor training room\, Charlottesville or online via Zoom \nRegister\nThere is a $15 administrative fee to attend this workshop. Scholarships available – contact events@cvsbdc.org for more information \n  \nAll programs of the Virginia SBDC are open to the public on a non-discriminatory basis. Reasonable accommodations for persons with disabilities will be made if requested at least two weeks in advance.
URL:https://cvsbdc.org/events/bet-4-marketing-sales-your-brand/
LOCATION:Central Virginia Small Business Development Center (CVSBDC)\, 300 Preston Ave\, Suite 201\, Charlottesville\, VA\, 22902\, United States
CATEGORIES:Hybrid event - online/in person,Marketing and Sales,Starting a Business
ATTACH;FMTTYPE=image/png:https://cvsbdc.org/wp-content/uploads/2023/02/Business-Essentials-Training.png
ORGANIZER;CN="Central Virginia Small Business Development Center (CVSBDC)":MAILTO:events@cvsbdc.org
END:VEVENT
BEGIN:VEVENT
DTSTART;TZID=UTC:20240319T090000
DTEND;TZID=UTC:20240319T100000
DTSTAMP:20260423T064408
CREATED:20240229T155635Z
LAST-MODIFIED:20240229T155635Z
UID:14790-1710838800-1710842400@cvsbdc.org
SUMMARY:Create With Canva
DESCRIPTION:In this beginner-friendly course\, you’ll dive into the exciting world of graphic design using Canva. \nCanva is a versatile design platform with thousands of ready-to-use attention- grabbing promotional templates to create business cards\, flyers\, social media posts\, presentations\, and business plans\, just to name a few. \nCanva also has a Magic Studio which utilizes AI to create images\, videos\, presentations\, and so much more. Get ready to unleash your creativity with Canva! \n\n\nREGISTER\n\n  \n\n\n\nSpeaker(s): Dana Knott\, LSBDC Central Region Director \nCo-Sponsor(s): LSBDC\, GMU\, VSBDC\, SBA\, GoVA \n  \nFee: No Cost
URL:https://cvsbdc.org/events/create-with-canva/
LOCATION:Online
CATEGORIES:Marketing and Sales,Online event
END:VEVENT
BEGIN:VEVENT
DTSTART;TZID=UTC:20240320T160000
DTEND;TZID=UTC:20240320T180000
DTSTAMP:20260423T064408
CREATED:20240131T210842Z
LAST-MODIFIED:20240131T210842Z
UID:14449-1710950400-1710957600@cvsbdc.org
SUMMARY:BET 5: Money & Recordkeeping
DESCRIPTION:In this interactive session\, we will share sources of capital\, establishing credit\, and strategies for success in record keeping and cash flow management. We help you with tips and tricks in recordkeeping\, as well as accounting language\, giving you tools to help you sleep at night knowing you are: \n\nmaking money\ncan pay your bills and\nwill be able to access additional capital when you need it.\n\nHYBRID event: In person for Piedmont Pitch cohort at 300 Preston Ave\, 2nd floor training room\, Charlottesville or online via Zoom \nRegister\nThere is a $15 administrative fee to attend this workshop. Scholarships available – contact events@cvsbdc.org for more information \n  \nAll programs of the Virginia SBDC are open to the public on a non-discriminatory basis. Reasonable accommodations for persons with disabilities will be made if requested at least two weeks in advance.
URL:https://cvsbdc.org/events/bet-5-money-recordkeeping/
LOCATION:Central Virginia Small Business Development Center (CVSBDC)\, 300 Preston Ave\, Suite 201\, Charlottesville\, VA\, 22902\, United States
CATEGORIES:Hybrid event - online/in person,Marketing and Sales,Starting a Business
ATTACH;FMTTYPE=image/png:https://cvsbdc.org/wp-content/uploads/2023/02/Business-Essentials-Training.png
ORGANIZER;CN="Central Virginia Small Business Development Center (CVSBDC)":MAILTO:events@cvsbdc.org
END:VEVENT
END:VCALENDAR