BEGIN:VCALENDAR
VERSION:2.0
PRODID:-//Central Virginia Small Business Development Center - ECPv6.15.20//NONSGML v1.0//EN
CALSCALE:GREGORIAN
METHOD:PUBLISH
X-ORIGINAL-URL:https://cvsbdc.org
X-WR-CALDESC:Events for Central Virginia Small Business Development Center
REFRESH-INTERVAL;VALUE=DURATION:PT1H
X-Robots-Tag:noindex
X-PUBLISHED-TTL:PT1H
BEGIN:VTIMEZONE
TZID:UTC
BEGIN:STANDARD
TZOFFSETFROM:+0000
TZOFFSETTO:+0000
TZNAME:UTC
DTSTART:20220101T000000
END:STANDARD
END:VTIMEZONE
BEGIN:VEVENT
DTSTART;TZID=UTC:20231102T100000
DTEND;TZID=UTC:20231102T120000
DTSTAMP:20260423T125709
CREATED:20231020T175947Z
LAST-MODIFIED:20231020T175947Z
UID:13581-1698919200-1698926400@cvsbdc.org
SUMMARY:Marketing 101 *Webinar (Live)* - PW
DESCRIPTION:Topic: Marketing and Sales\n\nPromotional Video HERE \nOverview of Live Webinar \nRefresh your knowledge to effectively market your goods and/or services! This live webinar (via Zoom) will cover the following marketing essentials: \n\nHow to choose your target group(s)\nHow to communicate with your target(s)\nMarket Definition\nMarket Segmentation\nCompetitive Analysis\nCompany Branding\nOnline (SEO) and Offline Marketing\n\n\nREGISTER\n\n\n\n\n\n\n\n\nSpeaker: Bernard Ferret – Senior Business Counselor\, Mason SBDC & Serial Entrepreneur \nCo-sponsor(s) & Partner(s): Prince William County Department of Economic Development & Prince William Chamber of Commerce \nCancellation Policy: Contact us earlier than OR 72 hours (3 days) prior to event. Kindly email – help@masonsbdc.org (preferred) or call 703-261-4105 to notify the team. \nSpecial Instruction: This live webinar will be offered on the Zoom platform. You will receive a Zoom inivitation link after the registration. \nSpeaker(s): \nCo-Sponsor(s): \nFee: No Cost \nWebinar (Live) \n  \n\n\nFacilitated by \n \nMason SBDC
URL:https://cvsbdc.org/events/marketing-101-webinar-live-pw/
LOCATION:Online
CATEGORIES:Marketing and Sales,Online event
ORGANIZER;CN="Mason SBDC":MAILTO:help@masonsbdc.org
END:VEVENT
BEGIN:VEVENT
DTSTART;TZID=UTC:20231117T093000
DTEND;TZID=UTC:20231117T103000
DTSTAMP:20260423T125709
CREATED:20231020T184830Z
LAST-MODIFIED:20231020T184830Z
UID:13594-1700213400-1700217000@cvsbdc.org
SUMMARY:Marketing on a Budget
DESCRIPTION:Topic: Marketing and Sales\n\nParticipants will learn free and low cost ways to market their business and increase sales. \nTopics will include: \n*Getting the most out of social media \n*Using email marketing effectively \n*Free resources to make your business look great \n*Participants will receive tips and ideas they can begin implementing right away \n\n\n\nREGISTER\n\n\n\n\n\n\n\n\n\nSpeaker(s): Hope Gayles\, Associate Director\, Communications & Outreach & Public Information Officer at Southern Virginia Higher Education Center \nCo-Sponsor(s): LSBDC\, GMU\, SBA\, VSBDC\, SVHEC\, GoVA \nFee: No Cost \n  \n\n\n\nFacilitated by \n \nLongwood University SBDC
URL:https://cvsbdc.org/events/marketing-on-a-budget-2/
LOCATION:Online
CATEGORIES:Marketing and Sales,Online event
END:VEVENT
BEGIN:VEVENT
DTSTART;TZID=UTC:20231121T120000
DTEND;TZID=UTC:20231121T133000
DTSTAMP:20260423T125709
CREATED:20231020T182812Z
LAST-MODIFIED:20231020T182812Z
UID:13590-1700568000-1700573400@cvsbdc.org
SUMMARY:F.A.S.T. Marketing
DESCRIPTION:Topic: Start-up Assistance\n\nMarketing: Building A Brand That Resonates Strategize. Implement. Conquer. \nThe final piece of the puzzle is effective marketing. Gain insights into: \n• Market Research • Identifying Overall Market & Target Market • Analyzing Competition • Marketing\, Sales\, & Promotional Strategies • Pricing Dynamics \nThis workshop will help you carve out a strong market presence\, tailor your marketing strategies\, and understand how to price your offerings competitively. \nThis is the 3rd in a series of three workshops for the FAST Accelerator Program. The workshops can be taken in any order and will help lay the groundwork for your business as well as guide any future conversations with an SBDC advisor. \nPlease download and review the workbook prior to participating: https://drive.google.com/file/d/1chP8wE_kJbSfchVSEug4fRaSAejdZYZH/view?usp=sharing \n\n\nREGISTER\n\n\n\n\n\n\n\n\nFee: No Cost \n  \n\n\nFacilitated by \n \nHampton Roads SBDC
URL:https://cvsbdc.org/events/f-a-s-t-marketing/
LOCATION:Online
CATEGORIES:Marketing and Sales,Online event
END:VEVENT
END:VCALENDAR