BEGIN:VCALENDAR
VERSION:2.0
PRODID:-//Central Virginia Small Business Development Center - ECPv6.15.20//NONSGML v1.0//EN
CALSCALE:GREGORIAN
METHOD:PUBLISH
X-ORIGINAL-URL:https://cvsbdc.org
X-WR-CALDESC:Events for Central Virginia Small Business Development Center
REFRESH-INTERVAL;VALUE=DURATION:PT1H
X-Robots-Tag:noindex
X-PUBLISHED-TTL:PT1H
BEGIN:VTIMEZONE
TZID:UTC
BEGIN:STANDARD
TZOFFSETFROM:+0000
TZOFFSETTO:+0000
TZNAME:UTC
DTSTART:20220101T000000
END:STANDARD
END:VTIMEZONE
BEGIN:VEVENT
DTSTART;TZID=UTC:20231024T120000
DTEND;TZID=UTC:20231024T130000
DTSTAMP:20260423T142536
CREATED:20231023T175722Z
LAST-MODIFIED:20231023T175722Z
UID:13628-1698148800-1698152400@cvsbdc.org
SUMMARY:How to Start Selling in Amazon's Store
DESCRIPTION:Topic: Ecommerce and Digital Marketing\n\nIn this session\, discover if you’re ready to sell in Amazon’s store and how to get started. Learn the fundamentals of selling with Amazon including what to sell and when\, how to list and deliver your products\, and how to grow and scale your brand online. We will also share information on the resources and programs Amazon has to help enable small business success. \nKey Takeaways: \n\nLearn if you’re ready to start selling in Amazon’s store\, what to sell & when\nLearn how to start selling in Amazon’s store\, to include listing and delivering your products\nLearn how to grow and scale your brand online\, to include resources and programs Amazon has to help enable success for small businesses and entrepreneurs\n\n\n\nREGISTER\n\n\n\n\n\n\n\n\n\n\nSpeaker(s): Daniel Corcoran\, Public Communications Program Manager\, Amazon Daniel Corcoran is a Program Manager at Amazon where his focus is on driving the success of small business owners\, and working with teams across the company to deliver programs that support their continued growth. Daniel joined Amazon in July of 2021 as an Area Manager in operations where he connected with several teams across the country to support their site’s performance. Prior to Amazon\, Daniel worked as a Head Camp Counselor for the Philadelphia Parks and Recreation Department. Daniel attended Penn State University in State College\, Pennsylvania where he earned a Bachelor of Arts in International Politics. \nCo-Sponsor(s): \nIf you need further assistance or have a question\, please contact us at (540) 654-1383 \nFee: No Cost \n\n  \n\n\n\nFacilitated by \n \nUniversity of Mary Washington SBDC
URL:https://cvsbdc.org/events/how-to-start-selling-in-amazons-store/
LOCATION:Online
CATEGORIES:e-Commerce,Marketing and Sales,Online event
END:VEVENT
BEGIN:VEVENT
DTSTART;TZID=UTC:20231026T130000
DTEND;TZID=UTC:20231026T143000
DTSTAMP:20260423T142536
CREATED:20231023T175051Z
LAST-MODIFIED:20231023T175153Z
UID:13623-1698325200-1698330600@cvsbdc.org
SUMMARY:Keeping Up with Digital Marketing – A’s for Your Q’s - ChatGPT
DESCRIPTION:Topic: Marketing and Sales\n\nWhat’s all the fuss about AI and ChatGPT? \nWhat AI tools are available\, and how can a small business use them to streamline customer service and marketing tasks? \nThis session with the Virginia SBDC’s Chief Digital Advisor Cameron Nelson will help answer those questions and more. The first half of the session will give an overview\, and the second half will be set aside for Q & A. \nA confirmation email with the Zoom login information will be sent after registration – a day before before the event – please be on the lookout for it.\n\n\nREGISTER\n\n\n\n\n\n\n\n\n\n\n\n\nPresenter: Cameron Nelson\, Chief Digital Advisor\, VA SBDC\nMr. Nelson has over 19 years experience in technology\, and as a senior tech consultant in Silicon Valley helping Fortune 500 companies improve their digital marketing and eCommerce. At the same time he founded several tech companies\, including a SaaS website for tree preservation and a blockchain platform for nonprofits. Cameron is accomplished in language\, culture\, has an MBA and MA and believes new technology products have the ability to help shape our world for the better. \n\nFee: No Cost \n\n\n  \n\n\n\nFacilitated by \n \nVirginia SBDC
URL:https://cvsbdc.org/events/seo-social-selling-webinar-live-pw-4/
LOCATION:Online
CATEGORIES:Marketing and Sales,Online event
END:VEVENT
END:VCALENDAR