BEGIN:VCALENDAR
VERSION:2.0
PRODID:-//Central Virginia Small Business Development Center - ECPv6.15.20//NONSGML v1.0//EN
CALSCALE:GREGORIAN
METHOD:PUBLISH
X-ORIGINAL-URL:https://cvsbdc.org
X-WR-CALDESC:Events for Central Virginia Small Business Development Center
REFRESH-INTERVAL;VALUE=DURATION:PT1H
X-Robots-Tag:noindex
X-PUBLISHED-TTL:PT1H
BEGIN:VTIMEZONE
TZID:America/New_York
BEGIN:DAYLIGHT
TZOFFSETFROM:-0500
TZOFFSETTO:-0400
TZNAME:EDT
DTSTART:20240310T070000
END:DAYLIGHT
BEGIN:STANDARD
TZOFFSETFROM:-0400
TZOFFSETTO:-0500
TZNAME:EST
DTSTART:20241103T060000
END:STANDARD
BEGIN:DAYLIGHT
TZOFFSETFROM:-0500
TZOFFSETTO:-0400
TZNAME:EDT
DTSTART:20250309T070000
END:DAYLIGHT
BEGIN:STANDARD
TZOFFSETFROM:-0400
TZOFFSETTO:-0500
TZNAME:EST
DTSTART:20251102T060000
END:STANDARD
BEGIN:DAYLIGHT
TZOFFSETFROM:-0500
TZOFFSETTO:-0400
TZNAME:EDT
DTSTART:20260308T070000
END:DAYLIGHT
BEGIN:STANDARD
TZOFFSETFROM:-0400
TZOFFSETTO:-0500
TZNAME:EST
DTSTART:20261101T060000
END:STANDARD
END:VTIMEZONE
BEGIN:VEVENT
DTSTART;TZID=America/New_York:20250923T100000
DTEND;TZID=America/New_York:20250923T110000
DTSTAMP:20260423T094306
CREATED:20250826T192840Z
LAST-MODIFIED:20250828T155621Z
UID:17545-1758621600-1758625200@cvsbdc.org
SUMMARY:Legality of Entrepreneurship
DESCRIPTION:Join the Central Virginia SBDC and Woods Rogers for this workshop that offers a practical introduction to the legal essentials of starting and running a small business. Attendees will gain a foundational understanding of business structures\, contracts\, regulatory requirements\, employee considerations\, and available resources. Whether you’re just launching or looking to strengthen your legal footing\, this session will help you navigate key legal concepts and prepare for common challenges entrepreneurs face. \nThis is a hybrid event – if you are joining virtually\, you will be sent a Zoom link before the day of the event. \nRegister
URL:https://cvsbdc.org/events/legality-of-entrepreneurship/
LOCATION:Central Virginia Small Business Development Center (CVSBDC)\, 300 Preston Ave\, Suite 201\, Charlottesville\, VA\, 22902\, United States
CATEGORIES:Hybrid event - online/in person,Legal
ATTACH;FMTTYPE=image/png:https://cvsbdc.org/wp-content/uploads/2025/08/Legality-of-Entrepreneurship-Woods-Rogers-workshop.png
END:VEVENT
END:VCALENDAR