BEGIN:VCALENDAR
VERSION:2.0
PRODID:-//Central Virginia Small Business Development Center - ECPv6.15.20//NONSGML v1.0//EN
CALSCALE:GREGORIAN
METHOD:PUBLISH
X-ORIGINAL-URL:https://cvsbdc.org
X-WR-CALDESC:Events for Central Virginia Small Business Development Center
REFRESH-INTERVAL;VALUE=DURATION:PT1H
X-Robots-Tag:noindex
X-PUBLISHED-TTL:PT1H
BEGIN:VTIMEZONE
TZID:America/New_York
BEGIN:DAYLIGHT
TZOFFSETFROM:-0500
TZOFFSETTO:-0400
TZNAME:EDT
DTSTART:20230312T070000
END:DAYLIGHT
BEGIN:STANDARD
TZOFFSETFROM:-0400
TZOFFSETTO:-0500
TZNAME:EST
DTSTART:20231105T060000
END:STANDARD
BEGIN:DAYLIGHT
TZOFFSETFROM:-0500
TZOFFSETTO:-0400
TZNAME:EDT
DTSTART:20240310T070000
END:DAYLIGHT
BEGIN:STANDARD
TZOFFSETFROM:-0400
TZOFFSETTO:-0500
TZNAME:EST
DTSTART:20241103T060000
END:STANDARD
BEGIN:DAYLIGHT
TZOFFSETFROM:-0500
TZOFFSETTO:-0400
TZNAME:EDT
DTSTART:20250309T070000
END:DAYLIGHT
BEGIN:STANDARD
TZOFFSETFROM:-0400
TZOFFSETTO:-0500
TZNAME:EST
DTSTART:20251102T060000
END:STANDARD
END:VTIMEZONE
BEGIN:VTIMEZONE
TZID:UTC
BEGIN:STANDARD
TZOFFSETFROM:+0000
TZOFFSETTO:+0000
TZNAME:UTC
DTSTART:20230101T000000
END:STANDARD
END:VTIMEZONE
BEGIN:VEVENT
DTSTART;TZID=America/New_York:20241202T090000
DTEND;TZID=America/New_York:20241202T160000
DTSTAMP:20260423T064340
CREATED:20241107T134924Z
LAST-MODIFIED:20241107T134924Z
UID:16283-1733130000-1733155200@cvsbdc.org
SUMMARY:Fork Union Office Hours
DESCRIPTION:Meet with CVSBDC Business Advisor Dan Fellows to discuss: \n\nBusiness Concept\nMarketing Strategy\nOperational Questions\nFunding Opportunities\nAny Concerns or Challenges\nAll questions are welcome!\n\nTo sign up\, call 434-295-8198 or email contact@cvsbdc.org \nWalk-ins welcome.
URL:https://cvsbdc.org/events/fork-union-office-hours-9/
LOCATION:Fluvanna Community Center\, 5725 James Madison Hwy\, Fork Union\, 23055\, United States
CATEGORIES:In person event
ATTACH;FMTTYPE=image/png:https://cvsbdc.org/wp-content/uploads/2024/10/Dans-Fork-Union-Calendar-Post.png
ORGANIZER;CN="Central Virginia Small Business Development Center (CVSBDC)":MAILTO:events@cvsbdc.org
END:VEVENT
BEGIN:VEVENT
DTSTART;TZID=UTC:20241202T110000
DTEND;TZID=UTC:20241202T160000
DTSTAMP:20260423T064340
CREATED:20240208T184820Z
LAST-MODIFIED:20240208T184820Z
UID:14589-1733137200-1733155200@cvsbdc.org
SUMMARY:Madison County Office Hours
DESCRIPTION:To sign up\, call 434-295-8198 or email contact@cvsbdc.org \nWalk-ins welcome
URL:https://cvsbdc.org/events/madison-county-office-hours-7/
LOCATION:Madison County Visitor Center & Chamber of Commerce\, 110 N Main Street\, Madison\, 22727
CATEGORIES:In person event
ATTACH;FMTTYPE=image/jpeg:https://cvsbdc.org/wp-content/uploads/2024/02/Q4.jpg
ORGANIZER;CN="Central Virginia Small Business Development Center (CVSBDC)":MAILTO:events@cvsbdc.org
END:VEVENT
BEGIN:VEVENT
DTSTART;TZID=America/New_York:20241203T090000
DTEND;TZID=America/New_York:20241203T160000
DTSTAMP:20260423T064340
CREATED:20241107T134951Z
LAST-MODIFIED:20241107T134951Z
UID:16285-1733216400-1733241600@cvsbdc.org
SUMMARY:Fork Union Office Hours
DESCRIPTION:Meet with CVSBDC Business Advisor Dan Fellows to discuss: \n\nBusiness Concept\nMarketing Strategy\nOperational Questions\nFunding Opportunities\nAny Concerns or Challenges\nAll questions are welcome!\n\nTo sign up\, call 434-295-8198 or email contact@cvsbdc.org \nWalk-ins welcome.
URL:https://cvsbdc.org/events/fork-union-office-hours-10/
LOCATION:Fluvanna Community Center\, 5725 James Madison Hwy\, Fork Union\, 23055\, United States
CATEGORIES:In person event
ATTACH;FMTTYPE=image/png:https://cvsbdc.org/wp-content/uploads/2024/10/Dans-Fork-Union-Calendar-Post.png
ORGANIZER;CN="Central Virginia Small Business Development Center (CVSBDC)":MAILTO:events@cvsbdc.org
END:VEVENT
BEGIN:VEVENT
DTSTART;TZID=America/New_York:20241204T093000
DTEND;TZID=America/New_York:20241204T150000
DTSTAMP:20260423T064340
CREATED:20241028T123237Z
LAST-MODIFIED:20241028T123237Z
UID:16248-1733304600-1733324400@cvsbdc.org
SUMMARY:Culpeper Office Hours
DESCRIPTION:Meet with CVSBDC Business Advisor Rosi Beachy to discuss: \n\nBusiness Concept\nMarketing Strategy\nOperational Questions\nFunding Opportunities\nAny Concerns or Challenges\nAll questions are welcome!\n\nTo sign up\, call 434-295-8198 or email contact@cvsbdc.org \nWalk-ins welcome.
URL:https://cvsbdc.org/events/culpeper-office-hours-4/
LOCATION:Culpeper Economic Development Center\, 803 South Main St\, Culpeper\, VA\, 22701\, United States
CATEGORIES:In person event
ATTACH;FMTTYPE=image/png:https://cvsbdc.org/wp-content/uploads/2024/10/Rosis-Version-Culpeper.png
ORGANIZER;CN="Central Virginia Small Business Development Center (CVSBDC)":MAILTO:events@cvsbdc.org
END:VEVENT
BEGIN:VEVENT
DTSTART;TZID=UTC:20241209T093000
DTEND;TZID=UTC:20241209T150000
DTSTAMP:20260423T064340
CREATED:20240118T174444Z
LAST-MODIFIED:20241202T215708Z
UID:14194-1733736600-1733756400@cvsbdc.org
SUMMARY:Orange County Office Hours
DESCRIPTION:To sign up\, call 434-295-8198 or email contact@cvsbdc.org \nWalk-ins welcome
URL:https://cvsbdc.org/events/orange-county-office-hours-21/
LOCATION:Orange County Economic Development Office\, 109 West Main Street\, Orange\, 22960\, United States
CATEGORIES:In person event
ATTACH;FMTTYPE=image/webp:https://cvsbdc.org/wp-content/uploads/2024/01/Orange-Co-Office-Hours-4.webp
ORGANIZER;CN="Central Virginia Small Business Development Center (CVSBDC)":MAILTO:events@cvsbdc.org
END:VEVENT
BEGIN:VEVENT
DTSTART;TZID=America/New_York:20241210T090000
DTEND;TZID=America/New_York:20241210T160000
DTSTAMP:20260423T064340
CREATED:20241107T135022Z
LAST-MODIFIED:20241107T135022Z
UID:16287-1733821200-1733846400@cvsbdc.org
SUMMARY:Fork Union Office Hours
DESCRIPTION:Meet with CVSBDC Business Advisor Dan Fellows to discuss: \n\nBusiness Concept\nMarketing Strategy\nOperational Questions\nFunding Opportunities\nAny Concerns or Challenges\nAll questions are welcome!\n\nTo sign up\, call 434-295-8198 or email contact@cvsbdc.org \nWalk-ins welcome.
URL:https://cvsbdc.org/events/fork-union-office-hours-11/
LOCATION:Fluvanna Community Center\, 5725 James Madison Hwy\, Fork Union\, 23055\, United States
CATEGORIES:In person event
ATTACH;FMTTYPE=image/png:https://cvsbdc.org/wp-content/uploads/2024/10/Dans-Fork-Union-Calendar-Post.png
ORGANIZER;CN="Central Virginia Small Business Development Center (CVSBDC)":MAILTO:events@cvsbdc.org
END:VEVENT
BEGIN:VEVENT
DTSTART;TZID=America/New_York:20241211T090000
DTEND;TZID=America/New_York:20241211T160000
DTSTAMP:20260423T064340
CREATED:20241107T135050Z
LAST-MODIFIED:20241107T135050Z
UID:16289-1733907600-1733932800@cvsbdc.org
SUMMARY:Fork Union Office Hours
DESCRIPTION:Meet with CVSBDC Business Advisor Dan Fellows to discuss: \n\nBusiness Concept\nMarketing Strategy\nOperational Questions\nFunding Opportunities\nAny Concerns or Challenges\nAll questions are welcome!\n\nTo sign up\, call 434-295-8198 or email contact@cvsbdc.org \nWalk-ins welcome.
URL:https://cvsbdc.org/events/fork-union-office-hours-12/
LOCATION:Fluvanna Community Center\, 5725 James Madison Hwy\, Fork Union\, 23055\, United States
CATEGORIES:In person event
ATTACH;FMTTYPE=image/png:https://cvsbdc.org/wp-content/uploads/2024/10/Dans-Fork-Union-Calendar-Post.png
ORGANIZER;CN="Central Virginia Small Business Development Center (CVSBDC)":MAILTO:events@cvsbdc.org
END:VEVENT
BEGIN:VEVENT
DTSTART;TZID=America/New_York:20241211T093000
DTEND;TZID=America/New_York:20241211T150000
DTSTAMP:20260423T064340
CREATED:20241028T123203Z
LAST-MODIFIED:20241028T123302Z
UID:16246-1733909400-1733929200@cvsbdc.org
SUMMARY:Culpeper Office Hours
DESCRIPTION:Meet with CVSBDC Business Advisor Rosi Beachy to discuss: \n\nBusiness Concept\nMarketing Strategy\nOperational Questions\nFunding Opportunities\nAny Concerns or Challenges\nAll questions are welcome!\n\nTo sign up\, call 434-295-8198 or email contact@cvsbdc.org \nWalk-ins welcome.
URL:https://cvsbdc.org/events/culpeper-office-hours-3/
LOCATION:Culpeper Economic Development Center\, 803 South Main St\, Culpeper\, VA\, 22701\, United States
CATEGORIES:In person event
ATTACH;FMTTYPE=image/png:https://cvsbdc.org/wp-content/uploads/2024/10/Rosis-Version-Culpeper.png
ORGANIZER;CN="Central Virginia Small Business Development Center (CVSBDC)":MAILTO:events@cvsbdc.org
END:VEVENT
BEGIN:VEVENT
DTSTART;TZID=UTC:20241217T090000
DTEND;TZID=UTC:20241217T160000
DTSTAMP:20260423T064340
CREATED:20240118T173516Z
LAST-MODIFIED:20240923T125901Z
UID:14165-1734426000-1734451200@cvsbdc.org
SUMMARY:Fluvanna County Office Hours
DESCRIPTION:To sign up\, call 434-295-8198 or email contact@cvsbdc.org \nWalk-ins welcome
URL:https://cvsbdc.org/events/fluvanna-county-office-hours-23/
LOCATION:Weaver Building\, 196 Main St\, Palmyra\, VA\, 22963\, United States
CATEGORIES:In person event
ATTACH;FMTTYPE=image/webp:https://cvsbdc.org/wp-content/uploads/2024/01/Fluvanna-Office-Hours-Dan-Dec-17.webp
ORGANIZER;CN="Central Virginia Small Business Development Center (CVSBDC)":MAILTO:events@cvsbdc.org
END:VEVENT
BEGIN:VEVENT
DTSTART;TZID=America/New_York:20241218T090000
DTEND;TZID=America/New_York:20241218T160000
DTSTAMP:20260423T064340
CREATED:20241107T135142Z
LAST-MODIFIED:20241107T135142Z
UID:16293-1734512400-1734537600@cvsbdc.org
SUMMARY:Fork Union Office Hours
DESCRIPTION:Meet with CVSBDC Business Advisor Dan Fellows to discuss: \n\nBusiness Concept\nMarketing Strategy\nOperational Questions\nFunding Opportunities\nAny Concerns or Challenges\nAll questions are welcome!\n\nTo sign up\, call 434-295-8198 or email contact@cvsbdc.org \nWalk-ins welcome.
URL:https://cvsbdc.org/events/fork-union-office-hours-14/
LOCATION:Fluvanna Community Center\, 5725 James Madison Hwy\, Fork Union\, 23055\, United States
CATEGORIES:In person event
ATTACH;FMTTYPE=image/png:https://cvsbdc.org/wp-content/uploads/2024/10/Dans-Fork-Union-Calendar-Post.png
ORGANIZER;CN="Central Virginia Small Business Development Center (CVSBDC)":MAILTO:events@cvsbdc.org
END:VEVENT
END:VCALENDAR