BEGIN:VCALENDAR
VERSION:2.0
PRODID:-//Central Virginia Small Business Development Center - ECPv6.15.20//NONSGML v1.0//EN
CALSCALE:GREGORIAN
METHOD:PUBLISH
X-ORIGINAL-URL:https://cvsbdc.org
X-WR-CALDESC:Events for Central Virginia Small Business Development Center
REFRESH-INTERVAL;VALUE=DURATION:PT1H
X-Robots-Tag:noindex
X-PUBLISHED-TTL:PT1H
BEGIN:VTIMEZONE
TZID:UTC
BEGIN:STANDARD
TZOFFSETFROM:+0000
TZOFFSETTO:+0000
TZNAME:UTC
DTSTART:20230101T000000
END:STANDARD
END:VTIMEZONE
BEGIN:VTIMEZONE
TZID:America/New_York
BEGIN:DAYLIGHT
TZOFFSETFROM:-0500
TZOFFSETTO:-0400
TZNAME:EDT
DTSTART:20230312T070000
END:DAYLIGHT
BEGIN:STANDARD
TZOFFSETFROM:-0400
TZOFFSETTO:-0500
TZNAME:EST
DTSTART:20231105T060000
END:STANDARD
BEGIN:DAYLIGHT
TZOFFSETFROM:-0500
TZOFFSETTO:-0400
TZNAME:EDT
DTSTART:20240310T070000
END:DAYLIGHT
BEGIN:STANDARD
TZOFFSETFROM:-0400
TZOFFSETTO:-0500
TZNAME:EST
DTSTART:20241103T060000
END:STANDARD
BEGIN:DAYLIGHT
TZOFFSETFROM:-0500
TZOFFSETTO:-0400
TZNAME:EDT
DTSTART:20250309T070000
END:DAYLIGHT
BEGIN:STANDARD
TZOFFSETFROM:-0400
TZOFFSETTO:-0500
TZNAME:EST
DTSTART:20251102T060000
END:STANDARD
END:VTIMEZONE
BEGIN:VEVENT
DTSTART;TZID=UTC:20241104T090000
DTEND;TZID=UTC:20241104T150000
DTSTAMP:20260423T080330
CREATED:20240118T174331Z
LAST-MODIFIED:20241025T173818Z
UID:14192-1730710800-1730732400@cvsbdc.org
SUMMARY:Orange County Office Hours
DESCRIPTION:To sign up\, call 434-295-8198 or email contact@cvsbdc.org \nWalk-ins welcome
URL:https://cvsbdc.org/events/orange-county-office-hours-20/
LOCATION:Orange County Economic Development Office\, 109 West Main Street\, Orange\, 22960\, United States
CATEGORIES:In person event
ATTACH;FMTTYPE=image/png:https://cvsbdc.org/wp-content/uploads/2024/01/Orange-Co-Office-Hours-6.png
ORGANIZER;CN="Central Virginia Small Business Development Center (CVSBDC)":MAILTO:events@cvsbdc.org
END:VEVENT
BEGIN:VEVENT
DTSTART;TZID=America/New_York:20241105T090000
DTEND;TZID=America/New_York:20241105T160000
DTSTAMP:20260423T080330
CREATED:20241028T125641Z
LAST-MODIFIED:20241028T125730Z
UID:16253-1730797200-1730822400@cvsbdc.org
SUMMARY:Fork Union Office Hours
DESCRIPTION:Meet with CVSBDC Business Advisor Dan Fellows to discuss: \n\nBusiness Concept\nMarketing Strategy\nOperational Questions\nFunding Opportunities\nAny Concerns or Challenges\nAll questions are welcome!\n\nTo sign up\, call 434-295-8198 or email contact@cvsbdc.org \nWalk-ins welcome.
URL:https://cvsbdc.org/events/fork-union-office-hours-2/
LOCATION:Fluvanna Community Center\, 5725 James Madison Hwy\, Fork Union\, 23055\, United States
CATEGORIES:In person event
ATTACH;FMTTYPE=image/png:https://cvsbdc.org/wp-content/uploads/2024/10/Dans-Fork-Union-Calendar-Post.png
ORGANIZER;CN="Central Virginia Small Business Development Center (CVSBDC)":MAILTO:events@cvsbdc.org
END:VEVENT
BEGIN:VEVENT
DTSTART;TZID=UTC:20241105T093000
DTEND;TZID=UTC:20241105T150000
DTSTAMP:20260423T080330
CREATED:20240118T172010Z
LAST-MODIFIED:20240823T152549Z
UID:14133-1730799000-1730818800@cvsbdc.org
SUMMARY:Louisa County Office Hours
DESCRIPTION:To sign up\, call 434-295-8198 or email contact@cvsbdc.org \nWalk-ins welcome
URL:https://cvsbdc.org/events/louisa-county-office-hours-21/
LOCATION:Louisa Chamber Office\, 111 W Main Street\, Louisa\, VA\, 23093\, United States
CATEGORIES:In person event
ATTACH;FMTTYPE=image/webp:https://cvsbdc.org/wp-content/uploads/2024/01/Nov-2024-Louisa-Office-Hours-1.webp
ORGANIZER;CN="Louisa Chamber of Commerce":MAILTO:info@louisachamber.org
END:VEVENT
BEGIN:VEVENT
DTSTART;TZID=America/New_York:20241106T090000
DTEND;TZID=America/New_York:20241106T160000
DTSTAMP:20260423T080330
CREATED:20241028T125900Z
LAST-MODIFIED:20241028T125900Z
UID:16255-1730883600-1730908800@cvsbdc.org
SUMMARY:Fork Union Office Hours
DESCRIPTION:Meet with CVSBDC Business Advisor Dan Fellows to discuss: \n\nBusiness Concept\nMarketing Strategy\nOperational Questions\nFunding Opportunities\nAny Concerns or Challenges\nAll questions are welcome!\n\nTo sign up\, call 434-295-8198 or email contact@cvsbdc.org \nWalk-ins welcome.
URL:https://cvsbdc.org/events/fork-union-office-hours-3/
LOCATION:Fluvanna Community Center\, 5725 James Madison Hwy\, Fork Union\, 23055\, United States
CATEGORIES:In person event
ATTACH;FMTTYPE=image/png:https://cvsbdc.org/wp-content/uploads/2024/10/Dans-Fork-Union-Calendar-Post.png
ORGANIZER;CN="Central Virginia Small Business Development Center (CVSBDC)":MAILTO:events@cvsbdc.org
END:VEVENT
BEGIN:VEVENT
DTSTART;TZID=America/New_York:20241106T110000
DTEND;TZID=America/New_York:20241106T130000
DTSTAMP:20260423T080330
CREATED:20241028T154305Z
LAST-MODIFIED:20241028T190108Z
UID:16265-1730890800-1730898000@cvsbdc.org
SUMMARY:Fact & Snacks
DESCRIPTION:Guia Basica de Negocios: Informacion esencial antes de empezar su empresa (Basic Business Guide: Essential info to Start Your Business) Class in Spanish \nREGISTER
URL:https://cvsbdc.org/events/fact-snacks/
LOCATION:Culpeper Economic Development Center\, 803 South Main St\, Culpeper\, VA\, 22701\, United States
CATEGORIES:In person event
ATTACH;FMTTYPE=image/png:https://cvsbdc.org/wp-content/uploads/2024/10/November-6-Facts-Snacks-3.png
ORGANIZER;CN="Central Virginia Small Business Development Center (CVSBDC)":MAILTO:events@cvsbdc.org
END:VEVENT
BEGIN:VEVENT
DTSTART;TZID=America/New_York:20241111T090000
DTEND;TZID=America/New_York:20241111T160000
DTSTAMP:20260423T080330
CREATED:20241028T125959Z
LAST-MODIFIED:20241107T134239Z
UID:16257-1731315600-1731340800@cvsbdc.org
SUMMARY:Fork Union Office Hours
DESCRIPTION:Meet with CVSBDC Business Advisor Dan Fellows to discuss: \n\nBusiness Concept\nMarketing Strategy\nOperational Questions\nFunding Opportunities\nAny Concerns or Challenges\nAll questions are welcome!\n\nTo sign up\, call 434-295-8198 or email contact@cvsbdc.org \nWalk-ins welcome.
URL:https://cvsbdc.org/events/fork-union-office-hours-4/
LOCATION:Fluvanna Community Center\, 5725 James Madison Hwy\, Fork Union\, 23055\, United States
CATEGORIES:In person event
ORGANIZER;CN="Central Virginia Small Business Development Center (CVSBDC)":MAILTO:events@cvsbdc.org
END:VEVENT
BEGIN:VEVENT
DTSTART;TZID=UTC:20241118T093000
DTEND;TZID=UTC:20241118T150000
DTSTAMP:20260423T080330
CREATED:20240123T203912Z
LAST-MODIFIED:20240823T204244Z
UID:14251-1731922200-1731942000@cvsbdc.org
SUMMARY:Greene County Office Hours
DESCRIPTION:To sign up\, call 434-295-8198 or email contact@cvsbdc.org \nWalk-ins welcome
URL:https://cvsbdc.org/events/greene-county-office-hours-16/
LOCATION:Greene County Visitor’s Center\, 9157 Seminole Trail\, Ruckersville\, VA\, 22968\, United States
CATEGORIES:In person event
ATTACH;FMTTYPE=image/webp:https://cvsbdc.org/wp-content/uploads/2024/01/Nov_Greene-.webp
END:VEVENT
BEGIN:VEVENT
DTSTART;TZID=UTC:20241119T080000
DTEND;TZID=UTC:20241119T100000
DTSTAMP:20260423T080330
CREATED:20240201T185629Z
LAST-MODIFIED:20240201T185629Z
UID:14505-1732003200-1732010400@cvsbdc.org
SUMMARY:Charlottesville Entrepreneurs and Espresso (ce-2)
DESCRIPTION:Get inspired \nMeet fellow entrepreneurs\nShare lessons learned\n  \nREGISTER\n  \n❅ INCLEMENT WEATHER POLICY: In the event of inclement weather\, CBIC will follow school and government closings. \nDESCRIPTION: Charlottesville Entrepreneurs and Espresso\, or C-E2\, a monthly event series\, is a casual\, caffeine fueled gathering of learning for entrepreneurs at all stages of venture creation. C-E2 will take place at 8:00 a.m. on the third Tuesday of each month. This is a free event open to the entire entrepreneurship community. \nLOCATION: CODE Building | Irving Theater | 225 W. Water Street\, Charlottesville\, VA 22902 \n**Enter through Irving Theater doors on Water Street** \nThe event format will remain close to the following schedule: \nAGENDA \n8:00 – 8:30 a.m. Open networking and coffee \n8:35 – 8:40 a.m. Welcome and Introduction \n8:40 – 8:55 a.m. Early-stage company pitch and help with their ”ask” \n8:55 – 9:20 a.m. “Crash & Learn” Fireside chat with a seasoned entrepreneur \n9:20 – 9:35 a.m. Group announcements \n9:35 – 10:00 a.m. Networking and meet the speakers \nGet inspired\, meet fellow entrepreneurs\, share lessons learned\, and become a part of Charlottesville’s vibrant and growing entrepreneurial ecosystem. \nRSVP: Please RSVP online in advance via Eventbrite. Any necessary updates will be emailed directly to all registrants. \nCO-HOSTS & SPONSORS: \n\nCharlottesville Business Innovation Council (CBIC)\nCommunity Investment Collaborative (CIC)\nCentral Virginia Small Business Development Center (CVSBDC)\nBatten Institute at the Darden School of Business at UVA\nWatermark Design\nCodebase Coworking\n\n 
URL:https://cvsbdc.org/events/charlottesville-entrepreneurs-and-espresso-ce-2-37/
LOCATION:CODE Building – Irving Theater\, 225 W Water St\, Charlottesville\, VA\, 22902\, United States
CATEGORIES:In person event,Networking
ATTACH;FMTTYPE=image/jpeg:https://cvsbdc.org/wp-content/uploads/2021/08/entrepreneurs-and-expresso-cvsbdc-1.jpg
ORGANIZER;CN="Community Investment Collaborative (CIC)":MAILTO:INFO@CICVILLE.ORG
END:VEVENT
BEGIN:VEVENT
DTSTART;TZID=America/New_York:20241119T090000
DTEND;TZID=America/New_York:20241119T160000
DTSTAMP:20260423T080330
CREATED:20241028T130136Z
LAST-MODIFIED:20241028T130142Z
UID:16261-1732006800-1732032000@cvsbdc.org
SUMMARY:Fork Union Office Hours
DESCRIPTION:Meet with CVSBDC Business Advisor Dan Fellows to discuss: \n\nBusiness Concept\nMarketing Strategy\nOperational Questions\nFunding Opportunities\nAny Concerns or Challenges\nAll questions are welcome!\n\nTo sign up\, call 434-295-8198 or email contact@cvsbdc.org \nWalk-ins welcome.
URL:https://cvsbdc.org/events/fork-union-office-hours-6/
LOCATION:Fluvanna Community Center\, 5725 James Madison Hwy\, Fork Union\, 23055\, United States
CATEGORIES:In person event
ATTACH;FMTTYPE=image/png:https://cvsbdc.org/wp-content/uploads/2024/10/Dans-Fork-Union-Calendar-Post.png
ORGANIZER;CN="Central Virginia Small Business Development Center (CVSBDC)":MAILTO:events@cvsbdc.org
END:VEVENT
BEGIN:VEVENT
DTSTART;TZID=UTC:20241119T100000
DTEND;TZID=UTC:20241119T150000
DTSTAMP:20260423T080330
CREATED:20240118T173429Z
LAST-MODIFIED:20241030T152917Z
UID:14163-1732010400-1732028400@cvsbdc.org
SUMMARY:Fluvanna County Office Hours
DESCRIPTION:To sign up\, call 434-295-8198 or email contact@cvsbdc.org \nWalk-ins welcome
URL:https://cvsbdc.org/events/fluvanna-county-office-hours-22/
LOCATION:Weaver Building\, 196 Main St\, Palmyra\, VA\, 22963\, United States
CATEGORIES:In person event
ATTACH;FMTTYPE=image/png:https://cvsbdc.org/wp-content/uploads/2024/01/Copy-of-Office-Hours-Template-1.png
ORGANIZER;CN="Central Virginia Small Business Development Center (CVSBDC)":MAILTO:events@cvsbdc.org
END:VEVENT
BEGIN:VEVENT
DTSTART;TZID=America/New_York:20241120T090000
DTEND;TZID=America/New_York:20241120T160000
DTSTAMP:20260423T080330
CREATED:20241028T130209Z
LAST-MODIFIED:20241028T130209Z
UID:16263-1732093200-1732118400@cvsbdc.org
SUMMARY:Fork Union Office Hours
DESCRIPTION:Meet with CVSBDC Business Advisor Dan Fellows to discuss: \n\nBusiness Concept\nMarketing Strategy\nOperational Questions\nFunding Opportunities\nAny Concerns or Challenges\nAll questions are welcome!\n\nTo sign up\, call 434-295-8198 or email contact@cvsbdc.org \nWalk-ins welcome.
URL:https://cvsbdc.org/events/fork-union-office-hours-7/
LOCATION:Fluvanna Community Center\, 5725 James Madison Hwy\, Fork Union\, 23055\, United States
CATEGORIES:In person event
ATTACH;FMTTYPE=image/png:https://cvsbdc.org/wp-content/uploads/2024/10/Dans-Fork-Union-Calendar-Post.png
ORGANIZER;CN="Central Virginia Small Business Development Center (CVSBDC)":MAILTO:events@cvsbdc.org
END:VEVENT
BEGIN:VEVENT
DTSTART;TZID=America/New_York:20241120T093000
DTEND;TZID=America/New_York:20241120T150000
DTSTAMP:20260423T080330
CREATED:20241028T123059Z
LAST-MODIFIED:20241028T123059Z
UID:16244-1732095000-1732114800@cvsbdc.org
SUMMARY:Culpeper Office Hours
DESCRIPTION:Meet with CVSBDC Business Advisor Rosi Beachy to discuss: \n\nBusiness Concept\nMarketing Strategy\nOperational Questions\nFunding Opportunities\nAny Concerns or Challenges\nAll questions are welcome!\n\nTo sign up\, call 434-295-8198 or email contact@cvsbdc.org \nWalk-ins welcome.
URL:https://cvsbdc.org/events/culpeper-office-hours-2/
LOCATION:Culpeper Economic Development Center\, 803 South Main St\, Culpeper\, VA\, 22701\, United States
CATEGORIES:In person event
ATTACH;FMTTYPE=image/png:https://cvsbdc.org/wp-content/uploads/2024/10/Rosis-Version-Culpeper.png
ORGANIZER;CN="Central Virginia Small Business Development Center (CVSBDC)":MAILTO:events@cvsbdc.org
END:VEVENT
BEGIN:VEVENT
DTSTART;TZID=America/New_York:20241126T090000
DTEND;TZID=America/New_York:20241126T160000
DTSTAMP:20260423T080330
CREATED:20241028T130044Z
LAST-MODIFIED:20241107T134317Z
UID:16259-1732611600-1732636800@cvsbdc.org
SUMMARY:Fork Union Office Hours
DESCRIPTION:Meet with CVSBDC Business Advisor Dan Fellows to discuss: \n\nBusiness Concept\nMarketing Strategy\nOperational Questions\nFunding Opportunities\nAny Concerns or Challenges\nAll questions are welcome!\n\nTo sign up\, call 434-295-8198 or email contact@cvsbdc.org \nWalk-ins welcome.
URL:https://cvsbdc.org/events/fork-union-office-hours-5/
LOCATION:Fluvanna Community Center\, 5725 James Madison Hwy\, Fork Union\, 23055\, United States
CATEGORIES:In person event
ATTACH;FMTTYPE=image/png:https://cvsbdc.org/wp-content/uploads/2024/10/Dans-Fork-Union-Calendar-Post.png
ORGANIZER;CN="Central Virginia Small Business Development Center (CVSBDC)":MAILTO:events@cvsbdc.org
END:VEVENT
BEGIN:VEVENT
DTSTART;TZID=America/New_York:20241127T090000
DTEND;TZID=America/New_York:20241127T160000
DTSTAMP:20260423T080330
CREATED:20241107T134356Z
LAST-MODIFIED:20241107T134356Z
UID:16281-1732698000-1732723200@cvsbdc.org
SUMMARY:Fork Union Office Hours
DESCRIPTION:Meet with CVSBDC Business Advisor Dan Fellows to discuss: \n\nBusiness Concept\nMarketing Strategy\nOperational Questions\nFunding Opportunities\nAny Concerns or Challenges\nAll questions are welcome!\n\nTo sign up\, call 434-295-8198 or email contact@cvsbdc.org \nWalk-ins welcome.
URL:https://cvsbdc.org/events/fork-union-office-hours-8/
LOCATION:Fluvanna Community Center\, 5725 James Madison Hwy\, Fork Union\, 23055\, United States
CATEGORIES:In person event
ATTACH;FMTTYPE=image/png:https://cvsbdc.org/wp-content/uploads/2024/10/Dans-Fork-Union-Calendar-Post.png
ORGANIZER;CN="Central Virginia Small Business Development Center (CVSBDC)":MAILTO:events@cvsbdc.org
END:VEVENT
END:VCALENDAR