BEGIN:VCALENDAR
VERSION:2.0
PRODID:-//Central Virginia Small Business Development Center - ECPv6.15.20//NONSGML v1.0//EN
CALSCALE:GREGORIAN
METHOD:PUBLISH
X-ORIGINAL-URL:https://cvsbdc.org
X-WR-CALDESC:Events for Central Virginia Small Business Development Center
REFRESH-INTERVAL;VALUE=DURATION:PT1H
X-Robots-Tag:noindex
X-PUBLISHED-TTL:PT1H
BEGIN:VTIMEZONE
TZID:America/New_York
BEGIN:DAYLIGHT
TZOFFSETFROM:-0500
TZOFFSETTO:-0400
TZNAME:EDT
DTSTART:20230312T070000
END:DAYLIGHT
BEGIN:STANDARD
TZOFFSETFROM:-0400
TZOFFSETTO:-0500
TZNAME:EST
DTSTART:20231105T060000
END:STANDARD
BEGIN:DAYLIGHT
TZOFFSETFROM:-0500
TZOFFSETTO:-0400
TZNAME:EDT
DTSTART:20240310T070000
END:DAYLIGHT
BEGIN:STANDARD
TZOFFSETFROM:-0400
TZOFFSETTO:-0500
TZNAME:EST
DTSTART:20241103T060000
END:STANDARD
BEGIN:DAYLIGHT
TZOFFSETFROM:-0500
TZOFFSETTO:-0400
TZNAME:EDT
DTSTART:20250309T070000
END:DAYLIGHT
BEGIN:STANDARD
TZOFFSETFROM:-0400
TZOFFSETTO:-0500
TZNAME:EST
DTSTART:20251102T060000
END:STANDARD
END:VTIMEZONE
BEGIN:VEVENT
DTSTART;TZID=America/New_York:20240403T100000
DTEND;TZID=America/New_York:20240403T113000
DTSTAMP:20260423T154440
CREATED:20240329T133152Z
LAST-MODIFIED:20240329T133309Z
UID:14908-1712138400-1712143800@cvsbdc.org
SUMMARY:Pricing Your Small Business Services
DESCRIPTION:How do you generate the “right” price for your service-based business?\nWe’ll go over basics of budgeting for your small business first\, since that’s the foundation of making service-pricing decisions. Then we’ll talk through the process of figuring out your prices for your services — both hourly rate models and package models. \n  \nREGISTER\n  \n\n\nPost-workshop\, registrants will receive a free digital template for business budgeting\, a one-pager with the process overview of service-pricing\, a copy of the slides from the webinar\, and access to a recording of the webinar minus the live Q & A section at the end. \nAfter you register\, you will be able to see the designated link for the scheduled Zoom meeting on your screen\, as well as in your registration confirmation email. Please email mnolde@capitalregionvasbdc.com with any questions about this webinar. \n**Attendees are requested to avoid using AI recording software during the webinar\, as SBDC programmatic requirements include confidentiality of information for all participants in our program. If an attendee refuses to comply with this request\, they will be asked to leave the live webinar. \n\nFee: No Cost
URL:https://cvsbdc.org/events/pricing-your-small-business-services/
LOCATION:Online
CATEGORIES:Accounting,Online event
ORGANIZER;CN="Capital Region SBDC":MAILTO:info@capitalregionvasbdc.com
END:VEVENT
END:VCALENDAR